BEGIN:VCALENDAR
VERSION:2.0
PRODID:-//STRAWANZERIN - ECPv4.9.5//NONSGML v1.0//EN
CALSCALE:GREGORIAN
METHOD:PUBLISH
X-WR-CALNAME:STRAWANZERIN
X-ORIGINAL-URL:https://www.strawanzerin.at
X-WR-CALDESC:Veranstaltungen im STRAWANZERIN
BEGIN:VTIMEZONE
TZID:"Europe/Vienna"
BEGIN:DAYLIGHT
TZOFFSETFROM:+0100
TZOFFSETTO:+0200
TZNAME:CEST
DTSTART:20190331T010000
END:DAYLIGHT
BEGIN:STANDARD
TZOFFSETFROM:+0200
TZOFFSETTO:+0100
TZNAME:CET
DTSTART:20191027T010000
END:STANDARD
END:VTIMEZONE
BEGIN:VEVENT
DTSTART;TZID="Europe/Vienna":20190404T190000
DTEND;TZID="Europe/Vienna":20190515T190000
DTSTAMP:20260423T193415
CREATED:20190401T111132Z
LAST-MODIFIED:20190403T084307Z
UID:63421-1554404400-1557946800@www.strawanzerin.at
SUMMARY:TechnoCare im Kunstraum Niederoesterreich
DESCRIPTION:Notstand überall: Personalmangel im Bereich der Pflege\, Vereinsamung als Realität des\ngegenwärtigen Lebens\, globale Zerstörung unseres Planeten. Paradoxerweise sind Tätigkeiten\nder Fürsorge\, die diesem Missstand entgegenwirken\, oft unterbezahlt und von abwertenden\nZuschreibungen geprägt. Ausgehend vom Spannungsverhältnis zwischen der gesellschaftlichen\nRelevanz von Fürsorge und ihrer gleichzeitigen Geringschätzung\, versammelt der Kunstraum\nNiederoesterreich mit der Ausstellung TechnoCare Arbeiten österreichischer und internationaler Künstler_innen\, die sich mit den technologischen Vermittlungsversuchen von Care befassen. Im Mittelpunkt der von Katharina Brandl und Friederike Zenker kuratierten Schau steht der relationale Charakter allen fürsorglichen Handelns\, denn\, so die Kuratorinnen: „Den Fokus auf Fürsorge zu legen heißt\, unmissverständlich den Fokus auf Beziehungen zu legen.“ – Auch im Zeitalter des Digitalen. \nBild: (c) Elisa Giardina Papa\, Technologies of Care\, 2016 \n
URL:https://www.strawanzerin.at/termin/technocare-im-kunstraum-niederoesterreich/
LOCATION:KUNSTRAUM NIEDEROESTERREICH\, Herrengasse 13\, Wien\, Wien\, 1014\, Österreich
CATEGORIES:Ausstellung,Feminismus,Gesundheit,Gratis,Kunst/Kultur,Tierschutz/Tierrechte,Wien
ATTACH;FMTTYPE=image/jpeg:https://www.strawanzerin.at/wp-content/uploads/2019/04/Elisa-Giardina-Papa_TechnologiesOfCare_2016_kl.jpg
GEO:48.2101378;16.3652306
X-APPLE-STRUCTURED-LOCATION;VALUE=URI;X-ADDRESS=KUNSTRAUM NIEDEROESTERREICH Herrengasse 13 Wien Wien 1014 Österreich;X-APPLE-RADIUS=500;X-TITLE=Herrengasse 13:geo:16.3652306,48.2101378
END:VEVENT
END:VCALENDAR