BEGIN:VCALENDAR
VERSION:2.0
PRODID:-//STRAWANZERIN - ECPv4.9.5//NONSGML v1.0//EN
CALSCALE:GREGORIAN
METHOD:PUBLISH
X-WR-CALNAME:STRAWANZERIN
X-ORIGINAL-URL:https://www.strawanzerin.at
X-WR-CALDESC:Veranstaltungen im STRAWANZERIN
BEGIN:VTIMEZONE
TZID:"Europe/Vienna"
BEGIN:DAYLIGHT
TZOFFSETFROM:+0100
TZOFFSETTO:+0200
TZNAME:CEST
DTSTART:20210328T010000
END:DAYLIGHT
BEGIN:STANDARD
TZOFFSETFROM:+0200
TZOFFSETTO:+0100
TZNAME:CET
DTSTART:20211031T010000
END:STANDARD
END:VTIMEZONE
BEGIN:VEVENT
DTSTART;TZID="Europe/Vienna":20211220T193000
DTEND;TZID="Europe/Vienna":20211220T210000
DTSTAMP:20260422T015619
CREATED:20211215T172657Z
LAST-MODIFIED:20211215T172657Z
UID:82162-1640028600-1640034000@www.strawanzerin.at
SUMMARY:Testo Junkie
DESCRIPTION:von Paul B. Preciado \naus dem Französischen von Stephan Geene \nUraufführung \nInszenierung: Christine Eder\nBühne & Kostüm: Monika Rovan\nMusik: Michael Eder\nAutor: Paul B. Preciado\nVideo: Philipp Haupt\nDramaturgie: Kathrin Bieligk\nRegieassistenz: Clara Obkircher\nMit: Bettina Schwarz\, Birgit Stöger\, Christoph Rothenbuchner\, Thomas Frank\, Lara Sienczak\nWillkommen im Zeitalter der Pharmapornographie! Subjektivität ist Konstrukt. Sex(ualität)\, Gender und Körper sind nur noch hierarchisch produzierte diskursive Effekte der Pharmaindustrie zur kapitalistischen Luststeigerung. Pharmazeutisch produziertes Testosteron ist die Droge der neuen Zeit. \n„Testo Junkie“ ist das philosophische Werk eines postmodernen Orlandos: Paul B. Preciado verhandelt darin die eigene Transition durch Selbstversuche mit Testosteron als Revolte gegen das binäre Regime. Die mitunter pornographischen Schilderungen von geschlechtskonstituierenden Körperakten werden eingewoben in einen hyperventilierenden philosophisch-historischen Stream-of-Consciousness-Theorieapparat von Jacques Derrida über Michel Foucault bis zu Judith Butler und Donna Haraway. \nIn „Testo Junkie“ geht Preciado so radikal mit der Epoche des frühen 21.Jahrhunderts um wie mit sich selbst\, versteht die eigene Transition als Akt des (politischen) Widerstands und fügt der Analyse unserer Zeit eine performative Achse hinzu. \n
URL:https://www.strawanzerin.at/termin/testo-junkie-3/2021-12-20/
LOCATION:WERK X\, Oswaldgasse 35A\, Wien\, Wien\, 1120\, Österreich
CATEGORIES:Theater/Kabarett
ATTACH;FMTTYPE=image/jpeg:https://www.strawanzerin.at/wp-content/uploads/2021/12/Testo-Junkie-1-Peter-Griesser.jpg
ORGANIZER;CN="WERK%20X":MAILTO:buero@werk-x.at
GEO:48.1662859;16.3245824
X-APPLE-STRUCTURED-LOCATION;VALUE=URI;X-ADDRESS=WERK X Oswaldgasse 35A Wien Wien 1120 Österreich;X-APPLE-RADIUS=500;X-TITLE=Oswaldgasse 35A:geo:16.3245824,48.1662859
END:VEVENT
END:VCALENDAR