BEGIN:VCALENDAR
VERSION:2.0
PRODID:-//STRAWANZERIN - ECPv4.9.5//NONSGML v1.0//EN
CALSCALE:GREGORIAN
METHOD:PUBLISH
X-WR-CALNAME:STRAWANZERIN
X-ORIGINAL-URL:https://www.strawanzerin.at
X-WR-CALDESC:Veranstaltungen im STRAWANZERIN
BEGIN:VTIMEZONE
TZID:"Europe/Vienna"
BEGIN:DAYLIGHT
TZOFFSETFROM:+0100
TZOFFSETTO:+0200
TZNAME:CEST
DTSTART:20190331T010000
END:DAYLIGHT
BEGIN:STANDARD
TZOFFSETFROM:+0200
TZOFFSETTO:+0100
TZNAME:CET
DTSTART:20191027T010000
END:STANDARD
END:VTIMEZONE
BEGIN:VEVENT
DTSTART;TZID="Europe/Vienna":20191024T180000
DTEND;TZID="Europe/Vienna":20191024T200000
DTSTAMP:20260420T032147
CREATED:20191017T122947Z
LAST-MODIFIED:20191029T080949Z
UID:69696-1571940000-1571947200@www.strawanzerin.at
SUMMARY:Texte. Preis für junge Literatur
DESCRIPTION:TEXTE. FAVORITEN \nLesung aus den besten Einreichungen aus Favoriten zu „Texte. Preis für junge Literatur“ \nInterpretation der Texte: Claudia Sabitzer \nMusik: Chor BG Pichelmayergasse\, Leitung Michael Amann \nModeration: Christoph Braendle \nEintritt frei \n„Texte. Preis für junge Literatur“ ist eine professionelle Plattform für Jugendliche von 14 bis 19 Jahren\, die Freude und ein besonderes Interesse daran haben\, sich mit der deutschen Sprache intensiv auseinander zu setzen und umfasst einen mehrstufigen Schreibwettbewerb\, Literaturworkshops mit renommierten Schriftstellerinnen und Schriftsteller\, die Vernetzung Literatur interessierter und schreibbegabter Jugendlicher und  „Texte“-Lesungen  im öffentlichen Raum durch bekannte Schauspielerinnen und Schauspieler. Infos: www.texte.wien  \n
URL:https://www.strawanzerin.at/termin/texte-preis-fuer-junge-literatur-2/
LOCATION:Festsaal der Bezirksvorstehung Favoriten\, Keplerplatz 5\, Wien\, Wien\, 1100\, Österreich
CATEGORIES:Literatur
ATTACH;FMTTYPE=image/jpeg:https://www.strawanzerin.at/wp-content/uploads/2019/10/2016_12_15-texte-Galafinale-Kasino-092-sw-2.jpg
ORGANIZER;CN="Literarische%20B%C3%BChnen%20Wien":MAILTO:info@texte.wien
END:VEVENT
END:VCALENDAR