BEGIN:VCALENDAR
VERSION:2.0
PRODID:-//STRAWANZERIN - ECPv4.9.5//NONSGML v1.0//EN
CALSCALE:GREGORIAN
METHOD:PUBLISH
X-WR-CALNAME:STRAWANZERIN
X-ORIGINAL-URL:https://www.strawanzerin.at
X-WR-CALDESC:Veranstaltungen im STRAWANZERIN
BEGIN:VTIMEZONE
TZID:"Europe/Vienna"
BEGIN:DAYLIGHT
TZOFFSETFROM:+0100
TZOFFSETTO:+0200
TZNAME:CEST
DTSTART:20190331T010000
END:DAYLIGHT
BEGIN:STANDARD
TZOFFSETFROM:+0200
TZOFFSETTO:+0100
TZNAME:CET
DTSTART:20191027T010000
END:STANDARD
END:VTIMEZONE
BEGIN:VEVENT
DTSTART;TZID="Europe/Vienna":20191105T180000
DTEND;TZID="Europe/Vienna":20191105T200000
DTSTAMP:20260423T175331
CREATED:20191020T170831Z
LAST-MODIFIED:20191020T170831Z
UID:69702-1572976800-1572984000@www.strawanzerin.at
SUMMARY:Texte. Preis für junge Literatur
DESCRIPTION:TEXTE. LIESING \nLesung aus den besten Einreichungen aus Liesing zu „Texte. Preis für junge Literatur“ \nModeration: Christoph Braendle \nEintritt frei \n„Texte. Preis für junge Literatur“ ist eine professionelle Plattform für Jugendliche von 14 bis 19 Jahren\, die Freude und ein besonderes Interesse daran haben\, sich mit der deutschen Sprache intensiv auseinander zu setzen und umfasst einen mehrstufigen Schreibwettbewerb\, Literaturworkshops mit renommierten Schriftstellerinnen und Schriftsteller\, die Vernetzung Literatur interessierter und schreibbegabter Jugendlicher und „Texte“-Lesungen im öffentlichen Raum durch bekannte Schauspielerinnen und Schauspieler. Infos: www.texte.wien \n
URL:https://www.strawanzerin.at/termin/texte-preis-fuer-junge-literatur/
LOCATION:Bezirksvorstehung Liesing\, Perchtoldsdorferstrasse 2\, Wien\, Wien\, 1230\, Österreich
CATEGORIES:Literatur
ATTACH;FMTTYPE=image/jpeg:https://www.strawanzerin.at/wp-content/uploads/2019/10/2016_12_15-texte-Galafinale-Kasino-092-sw-4.jpg
ORGANIZER;CN="Literarische%20B%C3%BChnen%20Wien":MAILTO:info@texte.wien
END:VEVENT
END:VCALENDAR