BEGIN:VCALENDAR
VERSION:2.0
PRODID:-//STRAWANZERIN - ECPv4.9.5//NONSGML v1.0//EN
CALSCALE:GREGORIAN
METHOD:PUBLISH
X-WR-CALNAME:STRAWANZERIN
X-ORIGINAL-URL:https://www.strawanzerin.at
X-WR-CALDESC:Veranstaltungen im STRAWANZERIN
BEGIN:VTIMEZONE
TZID:"Europe/Vienna"
BEGIN:DAYLIGHT
TZOFFSETFROM:+0100
TZOFFSETTO:+0200
TZNAME:CEST
DTSTART:20250330T010000
END:DAYLIGHT
BEGIN:STANDARD
TZOFFSETFROM:+0200
TZOFFSETTO:+0100
TZNAME:CET
DTSTART:20251026T010000
END:STANDARD
END:VTIMEZONE
BEGIN:VEVENT
DTSTART;TZID="Europe/Vienna":20250117T180000
DTEND;TZID="Europe/Vienna":20250117T180000
DTSTAMP:20260421T031606
CREATED:20241220T110451Z
LAST-MODIFIED:20241220T110451Z
UID:105185-1737136800-1737136800@www.strawanzerin.at
SUMMARY:The Art of Arriving: Loss\, Identity\, and Gender in Forced Migration
DESCRIPTION:Talk with Olena Tkalich (journalist\, sociologist\, gender researcher) and Yelyzaveta Zolotarova (MA in Nationalism Studies\, Turkologist\, Translator) \nIn 2022\, a few months after the invasion of Russia began\, we were invited to the project “The Art of Arriving”. We have different backgrounds: Yelyzaveta was a student at CEU and came to Vienna before the war\, Olena left Ukraine with her children after hostilities began. In the project we focused on challenges at an individual and interactional level when people talk about the pain of loss\, and their perspectives in Austrian and Ukrainian society. We also identified gender-specific characteristics. For example\, the experience of motherhood during forced migration or the severity of the feeling of shame due to the “survival complex”. \nHost: Gerlinde Mauerer (PhD\, MA\, social scientist\, gender and family studies\, critical masculinities) \nThe event is for women. \nDie Veranstaltung wird auf Englisch abgehalten. \n
URL:https://www.strawanzerin.at/termin/the-art-of-arriving-loss-identity-and-gender-in-forced-migration/
LOCATION:Frauenbildungsstätte Frauenhetz\, Untere Weißgerberstraße 41\, Wien\, Wien\, 1030\, Österreich
CATEGORIES:Barrierefrei,Englisch,Feminismus,Gratis,Soziale Kämpfe,Vortrag/Symposium,Wien
GEO:48.2084854;16.3946163
X-APPLE-STRUCTURED-LOCATION;VALUE=URI;X-ADDRESS=Frauenbildungsstätte Frauenhetz Untere Weißgerberstraße 41 Wien Wien 1030 Österreich;X-APPLE-RADIUS=500;X-TITLE=Untere Weißgerberstraße 41:geo:16.3946163,48.2084854
END:VEVENT
END:VCALENDAR