BEGIN:VCALENDAR
VERSION:2.0
PRODID:-//STRAWANZERIN - ECPv4.9.5//NONSGML v1.0//EN
CALSCALE:GREGORIAN
METHOD:PUBLISH
X-WR-CALNAME:STRAWANZERIN
X-ORIGINAL-URL:https://www.strawanzerin.at
X-WR-CALDESC:Veranstaltungen im STRAWANZERIN
BEGIN:VTIMEZONE
TZID:"Europe/Helsinki"
BEGIN:DAYLIGHT
TZOFFSETFROM:+0200
TZOFFSETTO:+0300
TZNAME:EEST
DTSTART:20160327T010000
END:DAYLIGHT
BEGIN:STANDARD
TZOFFSETFROM:+0300
TZOFFSETTO:+0200
TZNAME:EET
DTSTART:20161030T010000
END:STANDARD
END:VTIMEZONE
BEGIN:VEVENT
DTSTART;TZID="Europe/Helsinki":20160311T210000
DTEND;TZID="Europe/Helsinki":20160311T230000
DTSTAMP:20260420T101404
CREATED:20160226T114936Z
LAST-MODIFIED:20160308T173746Z
UID:24899-1457730000-1457737200@www.strawanzerin.at
SUMMARY:The Art Of Fading / Street To The Ocean / Once We Emerged
DESCRIPTION:Fistcrew Bookings und The Art of Fading läd am 11.3. in den Kramladen zu einem Abend der härtere Gangart.\nThe Art of Fading ist eine junge Metal Band aus Wien. In ausgefeileten Songwritingstrukturen finden Härte und Melodie\, Aggression und Emotion in der Musik der Band zueinander und verschmelzen zu einem mitreißenden Erlebnis\, das nicht nur eingefleischte Metal Fans überzeugt \n
URL:https://www.strawanzerin.at/termin/the-art-of-fading-street-to-the-ocean-once-we-emerged/
CATEGORIES:bis 7,Musik,Wien
ATTACH;FMTTYPE=image/jpeg:https://www.strawanzerin.at/wp-content/uploads/2016/02/springbreak-2016.jpg
ORGANIZER;CN="Kurt%20Kostron":MAILTO:kuko7559@gmail.com
END:VEVENT
END:VCALENDAR