BEGIN:VCALENDAR
VERSION:2.0
PRODID:-//STRAWANZERIN - ECPv4.9.5//NONSGML v1.0//EN
CALSCALE:GREGORIAN
METHOD:PUBLISH
X-WR-CALNAME:STRAWANZERIN
X-ORIGINAL-URL:https://www.strawanzerin.at
X-WR-CALDESC:Veranstaltungen im STRAWANZERIN
BEGIN:VTIMEZONE
TZID:"Europe/Paris"
BEGIN:DAYLIGHT
TZOFFSETFROM:+0100
TZOFFSETTO:+0200
TZNAME:CEST
DTSTART:20150329T010000
END:DAYLIGHT
BEGIN:STANDARD
TZOFFSETFROM:+0200
TZOFFSETTO:+0100
TZNAME:CET
DTSTART:20151025T010000
END:STANDARD
END:VTIMEZONE
BEGIN:VEVENT
DTSTART;TZID="Europe/Paris":20150430T203000
DTEND;TZID="Europe/Paris":20150430T223000
DTSTAMP:20260420T101349
CREATED:20150427T123454Z
LAST-MODIFIED:20150429T081841Z
UID:14301-1430425800-1430433000@www.strawanzerin.at
SUMMARY:The Dorf - 10 Jahre freiStil\, Magazin für Musik und Umgebung
DESCRIPTION:Radikale Bigband aus dem Ruhrgebiet unter der Leitung von Jan Klare \n
URL:https://www.strawanzerin.at/termin/the-dorf-10-jahre-freistil-magazin-fuer-musik-und-umgebung/
LOCATION:Porgy & Bess\, Riemergasse 11\, Wien\, Wien\, 1010\, Österreich
CATEGORIES:ab 7,Deutsch,Kunst/Kultur,Musik,Wien
ATTACH;FMTTYPE=image/jpeg:https://www.strawanzerin.at/wp-content/uploads/2015/04/The-Dorf-_-Foto-Frank-Schindelbeck.jpg
GEO:48.2068333;16.3766401
X-APPLE-STRUCTURED-LOCATION;VALUE=URI;X-ADDRESS=Porgy & Bess Riemergasse 11 Wien Wien 1010 Österreich;X-APPLE-RADIUS=500;X-TITLE=Riemergasse 11:geo:16.3766401,48.2068333
END:VEVENT
END:VCALENDAR