BEGIN:VCALENDAR
VERSION:2.0
PRODID:-//STRAWANZERIN - ECPv4.9.5//NONSGML v1.0//EN
CALSCALE:GREGORIAN
METHOD:PUBLISH
X-WR-CALNAME:STRAWANZERIN
X-ORIGINAL-URL:https://www.strawanzerin.at
X-WR-CALDESC:Veranstaltungen im STRAWANZERIN
BEGIN:VTIMEZONE
TZID:"Europe/Helsinki"
BEGIN:DAYLIGHT
TZOFFSETFROM:+0200
TZOFFSETTO:+0300
TZNAME:EEST
DTSTART:20150329T010000
END:DAYLIGHT
BEGIN:STANDARD
TZOFFSETFROM:+0300
TZOFFSETTO:+0200
TZNAME:EET
DTSTART:20151025T010000
END:STANDARD
END:VTIMEZONE
BEGIN:VEVENT
DTSTART;TZID="Europe/Helsinki":20150315T170000
DTEND;TZID="Europe/Helsinki":20150315T190000
DTSTAMP:20260420T100512
CREATED:20150216T135512Z
LAST-MODIFIED:20150219T172658Z
UID:11274-1426438800-1426446000@www.strawanzerin.at
SUMMARY:The Fading Valley
DESCRIPTION:Im fruchtbaren Jordantal wurden die Weiden palästinensischer Bauern und Bäuerinnen zum Militärgebiet erklärt. Ihre Brunnen wurden geschlossen und das Wasser zugunsten der jüdischen Siedler*innen des Tals umgeleitet. Ohne Wasser kein Leben – und die Landwirtschaft verschwindet. Einige von ihnen haben aufgegeben und zogen in die Stadt. Andere sind gezwungen\, in eben jenen Siedlungen zu arbeiten. \nDer Film bezeugt das Leben dieser Bauern und Bäuerinnen\, denen ihr Recht auf Zugang zu Land und Wasser genommen wurde und die sich im eigenen Land nahezu illegal aufhalten. In intimen Porträts und vor trostloser Landschaft erfahren wir von ihren täglichen Herausforderungen. \nFilmgespräch mit:\nHelmut Krieger\, Institut für Internationale Entwicklung\, Universität Wien\,\nSchwerpunkt: Israelisch-palästinensischer Konflikt\nPhilipp Salzmann\, FIAN Österreich & Mitglied Forschungscluster Israel/Palästina \nHunger.Macht.Profite.7 zeigt den Film in deutsch untertitelter Fassung. \n
URL:https://www.strawanzerin.at/termin/the-fading-valley/
LOCATION:TOP KINO\, Rahlgasse 1 (Ecke Theobaldgasse) \, Wien\, 1060\, Österreich
CATEGORIES:Eintrittspreis,Film,Soziale Kämpfe,Wien
ATTACH;FMTTYPE=image/jpeg:https://www.strawanzerin.at/wp-content/uploads/2015/02/FadingValley_web1.jpg
ORGANIZER;CN="Hunger.Macht.Profite.7":MAILTO:info[at]hungermachtprofite.at
GEO:48.2004983;16.3603239
X-APPLE-STRUCTURED-LOCATION;VALUE=URI;X-ADDRESS=TOP KINO Rahlgasse 1 (Ecke Theobaldgasse)  Wien 1060 Österreich;X-APPLE-RADIUS=500;X-TITLE=Rahlgasse 1 (Ecke Theobaldgasse):geo:16.3603239,48.2004983
END:VEVENT
END:VCALENDAR