BEGIN:VCALENDAR
VERSION:2.0
PRODID:-//STRAWANZERIN - ECPv4.9.5//NONSGML v1.0//EN
CALSCALE:GREGORIAN
METHOD:PUBLISH
X-WR-CALNAME:STRAWANZERIN
X-ORIGINAL-URL:https://www.strawanzerin.at
X-WR-CALDESC:Veranstaltungen im STRAWANZERIN
BEGIN:VTIMEZONE
TZID:"Europe/Helsinki"
BEGIN:DAYLIGHT
TZOFFSETFROM:+0200
TZOFFSETTO:+0300
TZNAME:EEST
DTSTART:20150329T010000
END:DAYLIGHT
BEGIN:STANDARD
TZOFFSETFROM:+0300
TZOFFSETTO:+0200
TZNAME:EET
DTSTART:20151025T010000
END:STANDARD
END:VTIMEZONE
BEGIN:VEVENT
DTSTART;TZID="Europe/Helsinki":20150408T203000
DTEND;TZID="Europe/Helsinki":20150408T230000
DTSTAMP:20260423T161458
CREATED:20150321T134820Z
LAST-MODIFIED:20150325T090222Z
UID:12625-1428525000-1428534000@www.strawanzerin.at
SUMMARY:The Fools On The Hill
DESCRIPTION:Beatles Songs\, schräg arrangiert und unkonventionell instrumentiert gecovert. Die „Fools“ bieten aber nicht nur außergewöhnliche Musikalität\, im Programm steht auch eine Doppelconférence zwischen der Mutter der Beatles und einem schwer desillusionierten Besserwisser! \n
URL:https://www.strawanzerin.at/termin/the-fools-on-the-hill/
LOCATION:Traditionscafé Industrie\, Margaretengürtel 12\, Wien\, Wien\, 1050\, Österreich
CATEGORIES:Deutsch,freie Spende,Musik,Sonstiges,Wien
ATTACH;FMTTYPE=image/jpeg:https://www.strawanzerin.at/wp-content/uploads/2015/03/fools_fb.jpg
ORGANIZER;CN="Ruth%20Binder":MAILTO:event@cafe-industrie.at
GEO:48.1838252;16.3664539
X-APPLE-STRUCTURED-LOCATION;VALUE=URI;X-ADDRESS=Traditionscafé Industrie Margaretengürtel 12 Wien Wien 1050 Österreich;X-APPLE-RADIUS=500;X-TITLE=Margaretengürtel 12:geo:16.3664539,48.1838252
END:VEVENT
END:VCALENDAR