BEGIN:VCALENDAR
VERSION:2.0
PRODID:-//STRAWANZERIN - ECPv4.9.5//NONSGML v1.0//EN
CALSCALE:GREGORIAN
METHOD:PUBLISH
X-WR-CALNAME:STRAWANZERIN
X-ORIGINAL-URL:https://www.strawanzerin.at
X-WR-CALDESC:Veranstaltungen im STRAWANZERIN
BEGIN:VTIMEZONE
TZID:"Europe/Helsinki"
BEGIN:DAYLIGHT
TZOFFSETFROM:+0200
TZOFFSETTO:+0300
TZNAME:EEST
DTSTART:20150329T010000
END:DAYLIGHT
BEGIN:STANDARD
TZOFFSETFROM:+0300
TZOFFSETTO:+0200
TZNAME:EET
DTSTART:20151025T010000
END:STANDARD
END:VTIMEZONE
BEGIN:VEVENT
DTSTART;TZID="Europe/Helsinki":20150205T193000
DTEND;TZID="Europe/Helsinki":20150205T220000
DTSTAMP:20260420T174410
CREATED:20150128T151001Z
LAST-MODIFIED:20150213T154024Z
UID:11094-1423164600-1423173600@www.strawanzerin.at
SUMMARY:The Neatpickers
DESCRIPTION:österreich – Amerika und retour. Eine mögliche Überschrift über der neuen CD Feverish Hearts von The Neatpickers\, die an diesem Abend präsentieren wird. Die Herzen brennen\, die Südstaaten-Sonne auch und die Lieder klingen als wären sie gar dem Great American Songbook entnommen. \n
URL:https://www.strawanzerin.at/termin/the-neatpickers/
LOCATION:Sargfabrik\, Goldschlagstraße 169\, Wien\, Wien\, 1140\, Österreich
CATEGORIES:ab 7,Deutsch,Kunst/Kultur,Musik,Wien
ATTACH;FMTTYPE=:
GEO:48.1951903;16.3046279
X-APPLE-STRUCTURED-LOCATION;VALUE=URI;X-ADDRESS=Sargfabrik Goldschlagstraße 169 Wien Wien 1140 Österreich;X-APPLE-RADIUS=500;X-TITLE=Goldschlagstraße 169:geo:16.3046279,48.1951903
END:VEVENT
END:VCALENDAR