BEGIN:VCALENDAR
VERSION:2.0
PRODID:-//STRAWANZERIN - ECPv4.9.5//NONSGML v1.0//EN
CALSCALE:GREGORIAN
METHOD:PUBLISH
X-WR-CALNAME:STRAWANZERIN
X-ORIGINAL-URL:https://www.strawanzerin.at
X-WR-CALDESC:Veranstaltungen im STRAWANZERIN
BEGIN:VTIMEZONE
TZID:"Europe/Vienna"
BEGIN:DAYLIGHT
TZOFFSETFROM:+0100
TZOFFSETTO:+0200
TZNAME:CEST
DTSTART:20260329T010000
END:DAYLIGHT
BEGIN:STANDARD
TZOFFSETFROM:+0200
TZOFFSETTO:+0100
TZNAME:CET
DTSTART:20261025T010000
END:STANDARD
END:VTIMEZONE
BEGIN:VEVENT
DTSTART;TZID="Europe/Vienna":20260116T200000
DTEND;TZID="Europe/Vienna":20260116T220000
DTSTAMP:20260421T225711
CREATED:20251127T111424Z
LAST-MODIFIED:20251127T111424Z
UID:111094-1768593600-1768600800@www.strawanzerin.at
SUMMARY:The Ridin Dudes "Legends of Rock N Roll"
DESCRIPTION:Chuck Berry\, Little Richard\, Jerry Lee Lewis und viele mehr – sie alle haben eins gemeinsam: Sie wurden zu Vorbildern einer ganzen Generation. \nIhre Ausstrahlung und Leidenschaft prägten das allgemein bekannte Lebensgefühl des Rock and Roll. \nAus vielen ihrer Songs wurde Musikgeschichte\, die meisten davon sind aus dem Leben zahlreicher Musikbegeisterter nicht mehr wegzudenken. \nSo auch bei den Ridin Dudes: Bei diesem Programm haben sie es sich zur Aufgabe gemacht\, ihre Lieblingssongs des Rock and Roll auf ihre eigene Art und Weise auf die Bühne zu bringen. Authentisch\, trotzdem „anders“ und vor allem voller Vorfreude präsentieren die Ridin Dudes das Konzert „Legends Of Rock N Roll“. \nAlle\, die also Lust haben mit ihnen einen Abend voller schöner Musik\, Tanz und lustigen Anekdoten zu verbringen\, sind hiermit herzlich eingeladen. \nLong live Rock N Roll! \n
URL:https://www.strawanzerin.at/termin/the-ridin-dudes-legends-of-rock-n-roll/
LOCATION:Papierfabrik Varieté\, Kirchenplatz 9\, Kleinneusiedl\, Niederösterreich\, 2431
CATEGORIES:Musik,Niederösterreich
ATTACH;FMTTYPE=image/jpeg:https://www.strawanzerin.at/wp-content/uploads/2025/11/FB-The-Ridin-Dudes-c-TheRidinDudes.jpg
ORGANIZER;CN="Papierfabrik%20Variet%C3%A9":MAILTO:info@papierfabrik-variete.com
END:VEVENT
END:VCALENDAR