BEGIN:VCALENDAR
VERSION:2.0
PRODID:-//STRAWANZERIN - ECPv4.9.5//NONSGML v1.0//EN
CALSCALE:GREGORIAN
METHOD:PUBLISH
X-WR-CALNAME:STRAWANZERIN
X-ORIGINAL-URL:https://www.strawanzerin.at
X-WR-CALDESC:Veranstaltungen im STRAWANZERIN
BEGIN:VTIMEZONE
TZID:"Europe/Vienna"
BEGIN:DAYLIGHT
TZOFFSETFROM:+0100
TZOFFSETTO:+0200
TZNAME:CEST
DTSTART:20200329T010000
END:DAYLIGHT
BEGIN:STANDARD
TZOFFSETFROM:+0200
TZOFFSETTO:+0100
TZNAME:CET
DTSTART:20201025T010000
END:STANDARD
END:VTIMEZONE
BEGIN:VEVENT
DTSTART;TZID="Europe/Vienna":20200124T190000
DTEND;TZID="Europe/Vienna":20200124T213000
DTSTAMP:20260420T114503
CREATED:20200114T222445Z
LAST-MODIFIED:20200130T103444Z
UID:71167-1579892400-1579901400@www.strawanzerin.at
SUMMARY:THE TERRIBLY HORRIBLE GRUSEL CLOWN VARIETÈ
DESCRIPTION:The International ClownLab Vienna presents:\nTHE TERRIBLY HORRIBLE GRUSEL CLOWN VARIETÈ \nBUUUUUUUU! HEHEHEHEHEHE! OOUUUAAAAAAHHHHAAAAHAHAHAHA!\n(bitte folgenden Text extrem bedeutungsschwer lesen)\nSchauderhafte Zeiten –  dramatische Pause –  brauchen schauderhafte Clowns.\nVierzehn Clowns geben alles\, um Ihnen einen derart gruseligen Abend zu bieten\, dass selbst Horror-Clowns vor Angst erzittern würden.\nZombies\, Geister\, Vampire „Paranormal Activities“ und vieles mehr…\nBe afraid\, be very afraid! Hahahahahahaha!\nEintritt: Freie Spende!     Bitte unbedingt reservieren!!!  \nBOOOOOOO! HAHAHAHAHAHA! UUUUUUAAAAAAHHHHAAAAHAHAHAHA!\nplease read following text in an extremely meaningful way)\nHorrible times -dramatic pause-  need horrible clowns.\nFourteen Clowns try their best to give you an evening so terrible\, that even horror-clowns are shaken (by fear).\nZombies\, ghosts\, vampires “paranormal activities” and much more…\nBe afraid\, be very afraid! Hahahahahahahaha!\nAdmission fee: free donation!   Important: Please reserve your seat!!! \nDas International ClownLab Vienna ist wie der Name schon sagt ein Laboratorium. Eine Gruppe von 16 Clowns\, die gemeinsam Trainieren\, Improvisieren\, Kreieren und kontinuierlich an ihren Clown-Acts aber auch an gemeinsamen Auftritten arbeiten. \nThe International ClownLab Vienna is\, as the name suggests\, a laboratory. A group of 16 clowns who train\, improvise\, create and work continuously on their clown acts but also on joint performances. \n
URL:https://www.strawanzerin.at/termin/the-terribly-horrible-grusel-clown-variete/
LOCATION:Theater Olé  – Clown- \, Komik- und Varietétheater\, Barmherzigengasse 18\, Wien\, Wien\, 1030\, Österreich
CATEGORIES:ab 7,Deutsch,Kunst/Kultur,Theater/Kabarett,Wien
ATTACH;FMTTYPE=image/jpeg:https://www.strawanzerin.at/wp-content/uploads/2020/01/Grusel-Pic-1.jpg
ORGANIZER;CN="Theater%20Ole-Clown-%20Komik%20-%20und%20Variet%C3%A9theater%20mitten%20in%20Wien":MAILTO:theater-ole@gmx.at
GEO:48.1962173;16.3940663
X-APPLE-STRUCTURED-LOCATION;VALUE=URI;X-ADDRESS=Theater Olé  – Clown-  Komik- und Varietétheater Barmherzigengasse 18 Wien Wien 1030 Österreich;X-APPLE-RADIUS=500;X-TITLE=Barmherzigengasse 18:geo:16.3940663,48.1962173
END:VEVENT
END:VCALENDAR