BEGIN:VCALENDAR
VERSION:2.0
PRODID:-//STRAWANZERIN - ECPv4.9.5//NONSGML v1.0//EN
CALSCALE:GREGORIAN
METHOD:PUBLISH
X-WR-CALNAME:STRAWANZERIN
X-ORIGINAL-URL:https://www.strawanzerin.at
X-WR-CALDESC:Veranstaltungen im STRAWANZERIN
BEGIN:VTIMEZONE
TZID:"Europe/Paris"
BEGIN:DAYLIGHT
TZOFFSETFROM:+0100
TZOFFSETTO:+0200
TZNAME:CEST
DTSTART:20150329T010000
END:DAYLIGHT
BEGIN:STANDARD
TZOFFSETFROM:+0200
TZOFFSETTO:+0100
TZNAME:CET
DTSTART:20151025T010000
END:STANDARD
END:VTIMEZONE
BEGIN:VEVENT
DTSTART;TZID="Europe/Paris":20150617T210000
DTEND;TZID="Europe/Paris":20150617T230000
DTSTAMP:20260423T193704
CREATED:20150609T075905Z
LAST-MODIFIED:20150612T075545Z
UID:17508-1434574800-1434582000@www.strawanzerin.at
SUMMARY:Theater der Unterdrückten "Betteln in Wien"
DESCRIPTION:„Wussten Sie\,\ndass jeder Mensch das Recht hat\, den Lebensunterhalt für sich und seine Angehörigen zu\nverdienen\, wenn nicht anders möglich auch durch betteln?“\n©\nwww.bettellobby.at \nLiebe Interessierte\,\nwir\, die Theatergruppe des Theater der Unterdrückten Wien\, laden Sie/Euch sehr herzlich ein an unserer theatralischen Auseinandersetzung mit dem Thema „Betteln in Wien“ teilzuhaben. Im Fokus unserer Beschäftigung stehen unter anderem die Frage nach dem gesellschaftlichen Umgang der Mehrheitsgesellschaft mit Bettelnden\, kollektive und gesellschaftliche Mythen über Bettelnde sollen benannt und hinterfragt werden\, aber auch das Ziel persönlich einen fruchtbaren Weg zu finden Bettelnden zu begegnen soll thematisiert werden. \nWir erwarten Sie/Euch am\n17. Juni 2015 um 21 Uhr im Gruppenraum des WUK\, Stiege 5 Stock 1\,\nin der Währinger Straße 59\, 1090 Wien\nund freuen uns darauf unsere bisherigen Überlegungen und szenischen Arbeiten zu präsentieren\, sowie gemeinsam zu diskutieren und Ideen  zum Thema weiterzuentwickeln.  \nAuf Ihr/Eurer zahlreiches Kommen\nfreut sich die\nTheatergruppe des\nTheater der Unterdrückten Wien  \n
URL:https://www.strawanzerin.at/termin/theater-der-unterdrueckten-betteln-in-wien/
LOCATION:Gruppenraum des WUK\, Stiege 5 Stock 1\, Währinger Straße 59\, 1090 Wien\, Wien\, 1090\, Österreich
CATEGORIES:Deutsch,Gratis,Soziale Kämpfe,Theater/Kabarett,Wien
GEO:48.2232818;16.3514158
X-APPLE-STRUCTURED-LOCATION;VALUE=URI;X-ADDRESS=Gruppenraum des WUK Stiege 5 Stock 1 Währinger Straße 59 1090 Wien Wien 1090 Österreich;X-APPLE-RADIUS=500;X-TITLE=Währinger Straße 59:geo:16.3514158,48.2232818
END:VEVENT
END:VCALENDAR