BEGIN:VCALENDAR
VERSION:2.0
PRODID:-//STRAWANZERIN - ECPv4.9.5//NONSGML v1.0//EN
CALSCALE:GREGORIAN
METHOD:PUBLISH
X-WR-CALNAME:STRAWANZERIN
X-ORIGINAL-URL:https://www.strawanzerin.at
X-WR-CALDESC:Veranstaltungen im STRAWANZERIN
BEGIN:VTIMEZONE
TZID:"Europe/Helsinki"
BEGIN:DAYLIGHT
TZOFFSETFROM:+0200
TZOFFSETTO:+0300
TZNAME:EEST
DTSTART:20160327T010000
END:DAYLIGHT
BEGIN:STANDARD
TZOFFSETFROM:+0300
TZOFFSETTO:+0200
TZNAME:EET
DTSTART:20161030T010000
END:STANDARD
END:VTIMEZONE
BEGIN:VEVENT
DTSTART;TZID="Europe/Helsinki":20161119T200000
DTEND;TZID="Europe/Helsinki":20161119T213000
DTSTAMP:20260421T140832
CREATED:20161007T111119Z
LAST-MODIFIED:20161013T133718Z
UID:34594-1479585600-1479591000@www.strawanzerin.at
SUMMARY:Theater im Bahnhof zu Gast im Brut: Ein Talkshowkonzentrat - Schönheitsspezial im Rahmen der Artweek
DESCRIPTION:Die vierte Ausgabe der Reihe ZU GAST steht – passend zur Vienna Art Week und deren diesjährigem Motto „Seeking Beauty“ – ganz im Zeichen des schönen Scheins. Vier Personen\, die sich privat oder beruflich der Schönheit verschrieben haben\, werden diesmal zu Gast sein. Das Spektrum der InterviewpartnerInnen kann dabei vom plastischen Chirurgen über die Modefetischistin\, den Grafikdesigner bis hin zum Juwelier oder zur Kunstphilosophin reichen.\nPia Hierzegger\, die herzliche\, aber gnadenlose Interviewerin vom Grazer Theater im Bahnhof\, fühlt den Gästen nacheinander in intimen Zwiegesprächen auf den Zahn. Die nach dem Zufallsprinzip ausgewählten Fragen können von der aktuellen politischen Situation bis hin zu persönlichen Themen reichen. Dabei geht es nicht darum\, zu erklären\, aufzudecken oder bloßzustellen. Vielmehr sollen die ZuschauerInnen einen Einblick in die Welt der Gäste und in die Mentalität des Landes bekommen. Und bisweilen muss doch auch einmal unangenehm nachgebohrt werden… Jeden Abend entfaltet das Theater im Bahnhof so einen Reigen höchst unterschiedlicher Einblicke\, Sichtweisen und Standpunkte. \n
URL:https://www.strawanzerin.at/termin/theater-im-bahnhof-zu-gast-im-brut-ein-talkshowkonzentrat-schoenheitsspezial-im-rahmen-der-artweek/
LOCATION:brut im Künstlerhaus\, Karlsplatz 5\, Wien\, 1010\, Österreich
CATEGORIES:Deutsch,freie Spende,Kunst/Kultur,Vortrag/Symposium,Wien
ATTACH;FMTTYPE=image/jpeg:https://www.strawanzerin.at/wp-content/uploads/2016/10/brut_Theater-im-Bahnhof_Zu-Gast_Copyright-Joannes-Gellner_3_Websmall.jpg
ORGANIZER;CN="brut":MAILTO:info@brut-wien.at
GEO:48.200534;16.3715493
X-APPLE-STRUCTURED-LOCATION;VALUE=URI;X-ADDRESS=brut im Künstlerhaus Karlsplatz 5 Wien 1010 Österreich;X-APPLE-RADIUS=500;X-TITLE=Karlsplatz 5:geo:16.3715493,48.200534
END:VEVENT
END:VCALENDAR