BEGIN:VCALENDAR
VERSION:2.0
PRODID:-//STRAWANZERIN - ECPv4.9.5//NONSGML v1.0//EN
CALSCALE:GREGORIAN
METHOD:PUBLISH
X-WR-CALNAME:STRAWANZERIN
X-ORIGINAL-URL:https://www.strawanzerin.at
X-WR-CALDESC:Veranstaltungen im STRAWANZERIN
BEGIN:VTIMEZONE
TZID:"Europe/Vienna"
BEGIN:DAYLIGHT
TZOFFSETFROM:+0100
TZOFFSETTO:+0200
TZNAME:CEST
DTSTART:20170326T010000
END:DAYLIGHT
BEGIN:STANDARD
TZOFFSETFROM:+0200
TZOFFSETTO:+0100
TZNAME:CET
DTSTART:20171029T010000
END:STANDARD
END:VTIMEZONE
BEGIN:VEVENT
DTSTART;TZID="Europe/Vienna":20170909T201500
DTEND;TZID="Europe/Vienna":20170909T220000
DTSTAMP:20260420T193510
CREATED:20170823T102242Z
LAST-MODIFIED:20170823T102341Z
UID:46069-1504988100-1504994400@www.strawanzerin.at
SUMMARY:Theater-Wahnsinn?! - Komödie am Kai lädt zu vergnüglicher Reise Backstage
DESCRIPTION:Von 9. September bis 7. Oktober entführen Sissy Boran\, Bernadette Mezgolits\, Victor Kautsch und Peter Kuderna mit viel Witz und Situationskomik in die sonst verborgene Welt hinter den Kulissen. Dort mischen sich Liebe und Freundschaft\, Intrigen und Eifersucht\, versteckte Talente und gebrochene Existenzen. Und nicht selten regiert das Chaos! Kurzum: Es geht um den ganz normalen Theater-Wahnsinn voll Glamour und Emotionen. In Monologen und Szenen durchstreifen die vier Schauspieler die bedeutendsten Werke der Weltliteratur. Heraus kommt ein lustiger Abend mit beliebten Melodien und amüsanten Anekdoten. \nVorstellungen:\n9. September bis 7. Oktober 2017\, DI bis SA 20.15 Uhr \nInfo:\nTel. 01 533 24 34 \nFoto: Sissy Boran\, Bernadette Mezgolits\, Victor Kautsch und Peter Kuderna im »Theater-Wahnsinn?!«\, Foto/© Komödie am Kai \n
URL:https://www.strawanzerin.at/termin/theater-wahnsinn-komoedie-am-kai-laedt-zu-vergnueglicher-reise-backstage/2017-09-09/
LOCATION:Komödie am Kai\, Franz-Josefs-Kai 29\, Wien\, Wien\, 1010\, Österreich
CATEGORIES:ab 7,Theater/Kabarett,Wien
ATTACH;FMTTYPE=image/jpeg:https://www.strawanzerin.at/wp-content/uploads/2017/08/Theater-Wahnsinn_KomKai.jpg
GEO:48.2121522;16.3749182
X-APPLE-STRUCTURED-LOCATION;VALUE=URI;X-ADDRESS=Komödie am Kai Franz-Josefs-Kai 29 Wien Wien 1010 Österreich;X-APPLE-RADIUS=500;X-TITLE=Franz-Josefs-Kai 29:geo:16.3749182,48.2121522
END:VEVENT
END:VCALENDAR