BEGIN:VCALENDAR
VERSION:2.0
PRODID:-//STRAWANZERIN - ECPv4.9.5//NONSGML v1.0//EN
CALSCALE:GREGORIAN
METHOD:PUBLISH
X-WR-CALNAME:STRAWANZERIN
X-ORIGINAL-URL:https://www.strawanzerin.at
X-WR-CALDESC:Veranstaltungen im STRAWANZERIN
BEGIN:VTIMEZONE
TZID:"Europe/Vienna"
BEGIN:DAYLIGHT
TZOFFSETFROM:+0100
TZOFFSETTO:+0200
TZNAME:CEST
DTSTART:20220327T010000
END:DAYLIGHT
BEGIN:STANDARD
TZOFFSETFROM:+0200
TZOFFSETTO:+0100
TZNAME:CET
DTSTART:20221030T010000
END:STANDARD
END:VTIMEZONE
BEGIN:VEVENT
DTSTART;TZID="Europe/Vienna":20220224T193000
DTEND;TZID="Europe/Vienna":20220224T193000
DTSTAMP:20260423T162550
CREATED:20220202T121649Z
LAST-MODIFIED:20220202T121649Z
UID:82590-1645731000-1645731000@www.strawanzerin.at
SUMMARY:THEATERKOLLEKTIV MARKUS&MARKUS: DIE BERUFUNG
DESCRIPTION:Im Manifest des vorhergehenden Stückes des Theaterkollektivs Markus&Markus „ZWISCHEN DEN SÄULEN“\, heißt es: „Das bedeutet für jede und jeden\, für Menschenrechte und den Schutz von Minderheiten einzutreten – und zwar\, wenn es ganz alltäglich konkret wird.“ – Doch wir müssen einsehen\, dass das leichter gesagt als getan ist. \nGesellschaft und Demokratie werden nicht von denjenigen zerstört\, die sie brennen sehen wollen\, sondern von denjenigen\, die sie nicht ausreichend verteidigen. Aber wie? Per Flaschenpost hat das Kollektiv in Deutschland einen Suchaufruf gestreut\, um Menschen zu finden\, die dem allpräsenten Hass etwas entgegensetzen. Diese haben sie mit ihrer Kamera besucht und sind bei ihnen in die Lehre gegangen. Eine hoffnungsvolle Reise quer durch Deutschland. \n
URL:https://www.strawanzerin.at/termin/theaterkollektiv-markusmarkus-die-berufung/2022-02-24/
LOCATION:Wuk\, Saal\, Währinger Straße 59\, Wien\, 1090\, Österreich
CATEGORIES:Film,Soziale Kämpfe,Theater/Kabarett,Wien
ATTACH;FMTTYPE=image/jpeg:https://www.strawanzerin.at/wp-content/uploads/2022/01/csm_berufung_foto_andreas_greiner_15_8ce3620afd.jpeg
ORGANIZER;CN="WUK%20performing%20arts":MAILTO:performingarts@wuk.at
GEO:48.2232818;16.3514158
X-APPLE-STRUCTURED-LOCATION;VALUE=URI;X-ADDRESS=Wuk Saal Währinger Straße 59 Wien 1090 Österreich;X-APPLE-RADIUS=500;X-TITLE=Währinger Straße 59:geo:16.3514158,48.2232818
END:VEVENT
END:VCALENDAR