BEGIN:VCALENDAR
VERSION:2.0
PRODID:-//STRAWANZERIN - ECPv4.9.5//NONSGML v1.0//EN
CALSCALE:GREGORIAN
METHOD:PUBLISH
X-WR-CALNAME:STRAWANZERIN
X-ORIGINAL-URL:https://www.strawanzerin.at
X-WR-CALDESC:Veranstaltungen im STRAWANZERIN
BEGIN:VTIMEZONE
TZID:"Europe/Vienna"
BEGIN:DAYLIGHT
TZOFFSETFROM:+0100
TZOFFSETTO:+0200
TZNAME:CEST
DTSTART:20220327T010000
END:DAYLIGHT
BEGIN:STANDARD
TZOFFSETFROM:+0200
TZOFFSETTO:+0100
TZNAME:CET
DTSTART:20221030T010000
END:STANDARD
END:VTIMEZONE
BEGIN:VEVENT
DTSTART;TZID="Europe/Vienna":20220122T193000
DTEND;TZID="Europe/Vienna":20220122T210000
DTSTAMP:20260420T184716
CREATED:20211114T144441Z
LAST-MODIFIED:20211116T132212Z
UID:81762-1642879800-1642885200@www.strawanzerin.at
SUMMARY:Theaterproduktion "Paarungen" (Eric Assous)
DESCRIPTION:Delphine und Xavier sind seit 20 Jahren miteinander verheiratet und ebenso lange schon mit Bob und dessen Frau befreundet. Doch Bob hat sich gerade getrennt\, und so kommt er mit seiner neuen\, deutlich jüngeren Freundin Garance zum gemeinsamen Abendessen.\nDass hier niemand ist\, was er zu sein vorgibt\, erzählt der französischen Autor Eric Assous in geschickten Rück- und Vorblenden und beleuchtet mit charmantem Blick die schwierigen Beziehungen zwischen Männern und Frauen\, wobei er die Dinge in der Schwebe lässt\, um dann Abgründe zu öffnen \n
URL:https://www.strawanzerin.at/termin/theaterproduktion-paarungen-eric-assous/
LOCATION:KiP – Kunst im Prückel\,\, Biberstraße 2\, Wien\, Wien\, 1010\, Österreich
CATEGORIES:ab 7,Theater/Kabarett
ATTACH;FMTTYPE=image/jpeg:https://www.strawanzerin.at/wp-content/uploads/2021/11/20210925_LY_Paarungen_FB_1920x1080px2_VA.jpg
ORGANIZER;CN="ArteFaktum%20Kulturverein":MAILTO:info@artefaktum.at
END:VEVENT
END:VCALENDAR