BEGIN:VCALENDAR
VERSION:2.0
PRODID:-//STRAWANZERIN - ECPv4.9.5//NONSGML v1.0//EN
CALSCALE:GREGORIAN
METHOD:PUBLISH
X-WR-CALNAME:STRAWANZERIN
X-ORIGINAL-URL:https://www.strawanzerin.at
X-WR-CALDESC:Veranstaltungen im STRAWANZERIN
BEGIN:VTIMEZONE
TZID:"Europe/Helsinki"
BEGIN:DAYLIGHT
TZOFFSETFROM:+0200
TZOFFSETTO:+0300
TZNAME:EEST
DTSTART:20140330T010000
END:DAYLIGHT
BEGIN:STANDARD
TZOFFSETFROM:+0300
TZOFFSETTO:+0200
TZNAME:EET
DTSTART:20141026T010000
END:STANDARD
END:VTIMEZONE
BEGIN:VEVENT
DTSTART;TZID="Europe/Helsinki":20140901T190000
DTEND;TZID="Europe/Helsinki":20140901T210000
DTSTAMP:20260422T054301
CREATED:20140825T163840Z
LAST-MODIFIED:20140902T072406Z
UID:4414-1409598000-1409605200@www.strawanzerin.at
SUMMARY:Themenabend: Lebensmittel
DESCRIPTION:Themenabend mit Filmvorführung in der Recycling-Kosmos Zentrale:\nWir wollen gemeinsam einen Film anschauen\, mit dem Ziel uns nicht einzeln berieseln zu lassen\, sondern gemeinsam Inspiration und Diskussion zu ermöglichen.\nAlle Interessierten sind herzlich willkommen! \n
URL:https://www.strawanzerin.at/termin/themenabend-lebensmittel/2014-09-01/
CATEGORIES:Deutsch,Gratis,Sonstiges,Treffen,Wien
END:VEVENT
END:VCALENDAR