BEGIN:VCALENDAR
VERSION:2.0
PRODID:-//STRAWANZERIN - ECPv4.9.5//NONSGML v1.0//EN
CALSCALE:GREGORIAN
METHOD:PUBLISH
X-WR-CALNAME:STRAWANZERIN
X-ORIGINAL-URL:https://www.strawanzerin.at
X-WR-CALDESC:Veranstaltungen im STRAWANZERIN
BEGIN:VTIMEZONE
TZID:"Europe/Helsinki"
BEGIN:DAYLIGHT
TZOFFSETFROM:+0200
TZOFFSETTO:+0300
TZNAME:EEST
DTSTART:20140330T010000
END:DAYLIGHT
BEGIN:STANDARD
TZOFFSETFROM:+0300
TZOFFSETTO:+0200
TZNAME:EET
DTSTART:20141026T010000
END:STANDARD
END:VTIMEZONE
BEGIN:VEVENT
DTSTART;TZID="Europe/Helsinki":20141006T190000
DTEND;TZID="Europe/Helsinki":20141006T210000
DTSTAMP:20260421T173656
CREATED:20140927T194953Z
LAST-MODIFIED:20141006T081157Z
UID:7598-1412622000-1412629200@www.strawanzerin.at
SUMMARY:Themenabend: Verkehr in und um die Ottakringer Straße
DESCRIPTION:mit Impulsvortrag von Dr. Klaus Renoldner\, Master of Sustainable Economy.  \nAlle Interessierten sind herzlich willkommen!  \n
URL:https://www.strawanzerin.at/termin/themenabend-verkehr-in-und-um-die-ottakringer-strasse/
LOCATION:Recycling Kosmos Zentrale\, Ottakringer Straße 63\, Wien\, Wien\, 1160\, Österreich
CATEGORIES:Deutsch,Gratis,Recht auf Stadt,Vortrag/Symposium,Wien
ORGANIZER;CN="Recycling%20Kosmos":MAILTO:workshops@recyclingkosmos.at
GEO:48.2137812;16.3298013
X-APPLE-STRUCTURED-LOCATION;VALUE=URI;X-ADDRESS=Recycling Kosmos Zentrale Ottakringer Straße 63 Wien Wien 1160 Österreich;X-APPLE-RADIUS=500;X-TITLE=Ottakringer Straße 63:geo:16.3298013,48.2137812
END:VEVENT
END:VCALENDAR