BEGIN:VCALENDAR
VERSION:2.0
PRODID:-//STRAWANZERIN - ECPv4.9.5//NONSGML v1.0//EN
CALSCALE:GREGORIAN
METHOD:PUBLISH
X-WR-CALNAME:STRAWANZERIN
X-ORIGINAL-URL:https://www.strawanzerin.at
X-WR-CALDESC:Veranstaltungen im STRAWANZERIN
BEGIN:VTIMEZONE
TZID:"Europe/Helsinki"
BEGIN:DAYLIGHT
TZOFFSETFROM:+0200
TZOFFSETTO:+0300
TZNAME:EEST
DTSTART:20160327T010000
END:DAYLIGHT
BEGIN:STANDARD
TZOFFSETFROM:+0300
TZOFFSETTO:+0200
TZNAME:EET
DTSTART:20161030T010000
END:STANDARD
END:VTIMEZONE
BEGIN:VEVENT
DTSTART;TZID="Europe/Helsinki":20161117T183000
DTEND;TZID="Europe/Helsinki":20161117T203000
DTSTAMP:20260420T115449
CREATED:20161022T101105Z
LAST-MODIFIED:20161027T171343Z
UID:35647-1479407400-1479414600@www.strawanzerin.at
SUMMARY:THEMENABEND: Verwenden von Re-Use-Materialien mit Kindern und Jugendlichen
DESCRIPTION:www.recyclingkosmos.at \nDer Verein Recycling Kosmos bietet an diesem Abend Input und Austausch zum Thema „Verwenden von Re-Use-Materialien mit Kindern und Jugendlichen“ an. Wir werden einen Büchertisch und eine Literatur-Liste dazu vorbereiten und möchten gemeinsam mit Ihnen verschiedene Aspekte und Facetten des Themas beleuchten. \nAnschließend können Sie uns zu einem Besuch in der Material-Koje begleiten (7 Minuten Fußweg). \nAnmeldung bitte unter: workshops@recyclingkosmos.at \n
URL:https://www.strawanzerin.at/termin/themenabend-verwenden-von-re-use-materialien-mit-kindern-und-jugendlichen/
CATEGORIES:Gratis,Wien
ATTACH;FMTTYPE=image/jpeg:https://www.strawanzerin.at/wp-content/uploads/2016/10/reusematerialien.jpg
END:VEVENT
END:VCALENDAR