BEGIN:VCALENDAR
VERSION:2.0
PRODID:-//STRAWANZERIN - ECPv4.9.5//NONSGML v1.0//EN
CALSCALE:GREGORIAN
METHOD:PUBLISH
X-WR-CALNAME:STRAWANZERIN
X-ORIGINAL-URL:https://www.strawanzerin.at
X-WR-CALDESC:Veranstaltungen im STRAWANZERIN
BEGIN:VTIMEZONE
TZID:"Europe/Vienna"
BEGIN:DAYLIGHT
TZOFFSETFROM:+0100
TZOFFSETTO:+0200
TZNAME:CEST
DTSTART:20210328T010000
END:DAYLIGHT
BEGIN:STANDARD
TZOFFSETFROM:+0200
TZOFFSETTO:+0100
TZNAME:CET
DTSTART:20211031T010000
END:STANDARD
END:VTIMEZONE
BEGIN:VEVENT
DTSTART;TZID="Europe/Vienna":20210926T110000
DTEND;TZID="Europe/Vienna":20210926T140000
DTSTAMP:20260421T224423
CREATED:20210902T060800Z
LAST-MODIFIED:20210908T134315Z
UID:80037-1632654000-1632664800@www.strawanzerin.at
SUMMARY:Themenführung: »Die Gerechten. Courage ist eine Frage der Entscheidung«
DESCRIPTION:Das Herz des Arsenals schlägt für Beherztheit   \n»Die Gerechten. Courage ist eine Frage der Entscheidung« heißt die aktuelle Sonderausstellung der österreichischen Freunde von Yad Vashem in der Ruhmeshalle des Heeresgeschichtlichen Museums. Die Schau stellt jene Menschen in den Mittelpunkt\, die während des Naziregimes jüdischen Mitbürger/innen unter Lebensgefahr geholfen haben. Diesem mutigen Handeln widmet sich auch die Themenführung am Sonntag\, den 26. September\, um 11 Uhr. Anmeldung erforderlich unter Telefon 0664 8876 3813.  \nBildbeschreibung: Blick in die Ausstellung »Die Gerechten. Courage ist eine Frage der Entscheidung«\, Foto/© Heeresgeschichtliches Museum \n
URL:https://www.strawanzerin.at/termin/themenfuehrung-die-gerechten-courage-ist-eine-frage-der-entscheidung/
LOCATION:Heeresgeschichtliches Museum\, Arsenal\, Wien\, Wien\, 1030\, Österreich
CATEGORIES:ab 7,Ausstellung,Wien
ATTACH;FMTTYPE=image/jpeg:https://www.strawanzerin.at/wp-content/uploads/2021/09/HGM_Die-Gerechten_Blick-in-die-Ausstellung_13-x18_1-Kopie.jpg
GEO:48.1833104;16.3932274
X-APPLE-STRUCTURED-LOCATION;VALUE=URI;X-ADDRESS=Heeresgeschichtliches Museum Arsenal Wien Wien 1030 Österreich;X-APPLE-RADIUS=500;X-TITLE=Arsenal:geo:16.3932274,48.1833104
END:VEVENT
END:VCALENDAR