BEGIN:VCALENDAR
VERSION:2.0
PRODID:-//STRAWANZERIN - ECPv4.9.5//NONSGML v1.0//EN
CALSCALE:GREGORIAN
METHOD:PUBLISH
X-WR-CALNAME:STRAWANZERIN
X-ORIGINAL-URL:https://www.strawanzerin.at
X-WR-CALDESC:Veranstaltungen im STRAWANZERIN
BEGIN:VTIMEZONE
TZID:"Europe/Paris"
BEGIN:DAYLIGHT
TZOFFSETFROM:+0100
TZOFFSETTO:+0200
TZNAME:CEST
DTSTART:20150329T010000
END:DAYLIGHT
BEGIN:STANDARD
TZOFFSETFROM:+0200
TZOFFSETTO:+0100
TZNAME:CET
DTSTART:20151025T010000
END:STANDARD
END:VTIMEZONE
BEGIN:VEVENT
DTSTART;TZID="Europe/Paris":20150611T190000
DTEND;TZID="Europe/Paris":20150611T203000
DTSTAMP:20260423T175110
CREATED:20150510T152509Z
LAST-MODIFIED:20150510T173141Z
UID:14721-1434049200-1434054600@www.strawanzerin.at
SUMMARY:Theodora oder die Quadratur des Seins
DESCRIPTION:Buchpräsentation mit musikalischem Rahmen\, Sonja Henisch und Alen Dzambic \n
URL:https://www.strawanzerin.at/termin/theodora-oder-die-quadratur-des-seins-4/
LOCATION:Österreich
CATEGORIES:Deutsch,Feminismus,Gratis,Literatur,Wien
ATTACH;FMTTYPE=image/jpeg:https://www.strawanzerin.at/wp-content/uploads/2015/05/14-11-06-SPÖ-O-mit-A1.jpg
ORGANIZER;CN="Kulturinitiative%20Klopfzeichen":MAILTO:klopfzeichen@nmx.at
END:VEVENT
END:VCALENDAR