BEGIN:VCALENDAR
VERSION:2.0
PRODID:-//STRAWANZERIN - ECPv4.9.5//NONSGML v1.0//EN
CALSCALE:GREGORIAN
METHOD:PUBLISH
X-WR-CALNAME:STRAWANZERIN
X-ORIGINAL-URL:https://www.strawanzerin.at
X-WR-CALDESC:Veranstaltungen im STRAWANZERIN
BEGIN:VTIMEZONE
TZID:"Europe/Paris"
BEGIN:DAYLIGHT
TZOFFSETFROM:+0100
TZOFFSETTO:+0200
TZNAME:CEST
DTSTART:20150329T010000
END:DAYLIGHT
BEGIN:STANDARD
TZOFFSETFROM:+0200
TZOFFSETTO:+0100
TZNAME:CET
DTSTART:20151025T010000
END:STANDARD
END:VTIMEZONE
BEGIN:VEVENT
DTSTART;TZID="Europe/Paris":20150508T190000
DTEND;TZID="Europe/Paris":20150508T210000
DTSTAMP:20260423T122958
CREATED:20150423T095946Z
LAST-MODIFIED:20150429T080503Z
UID:14229-1431111600-1431118800@www.strawanzerin.at
SUMMARY:Theodora oder die Quadratur des Seins
DESCRIPTION:Lesung mit musikalischem Rahmen mit Sonja Henisch und Alen Dzambic.\nZärtlich wie ein Liebesroman\, doch spannender als jeder Krimi führt dieser Roman als gegenwartsbezogenes Zeitdokument mit historischer Aufarbeitung durch Italien\, Österreich und in die Türkei. Missbrauch und Macht verschmelzen mit der Vergangenheit und geben der Spekulation über Reinkarnation freien Raum. \n
URL:https://www.strawanzerin.at/termin/theodora-oder-die-quadratur-des-seins/
LOCATION:Österreich
CATEGORIES:Deutsch,freie Spende,Kunst/Kultur,Literatur,Wien
ATTACH;FMTTYPE=:
ORGANIZER;CN="Kulturinitiative%20Klopfzeichen":MAILTO:schreibsam@gmx.at 
END:VEVENT
END:VCALENDAR