BEGIN:VCALENDAR
VERSION:2.0
PRODID:-//STRAWANZERIN - ECPv4.9.5//NONSGML v1.0//EN
CALSCALE:GREGORIAN
METHOD:PUBLISH
X-WR-CALNAME:STRAWANZERIN
X-ORIGINAL-URL:https://www.strawanzerin.at
X-WR-CALDESC:Veranstaltungen im STRAWANZERIN
BEGIN:VTIMEZONE
TZID:"Europe/Helsinki"
BEGIN:DAYLIGHT
TZOFFSETFROM:+0200
TZOFFSETTO:+0300
TZNAME:EEST
DTSTART:20150329T010000
END:DAYLIGHT
BEGIN:STANDARD
TZOFFSETFROM:+0300
TZOFFSETTO:+0200
TZNAME:EET
DTSTART:20151025T010000
END:STANDARD
END:VTIMEZONE
BEGIN:VEVENT
DTSTART;TZID="Europe/Helsinki":20151205T123000
DTEND;TZID="Europe/Helsinki":20151205T235500
DTSTAMP:20260422T190943
CREATED:20151113T144852Z
LAST-MODIFIED:20151125T132007Z
UID:21857-1449318600-1449359700@www.strawanzerin.at
SUMMARY:this human world 2015 - FESTIVALTAG 2
DESCRIPTION:Am zweiten Tag des this human world Filmfestivals möchten wir euch folgende Veranstaltungen empfehlen. Das vollständige Programm findet ihr auf www.thishumanworld.com. \n► 12:30 | River Memories\, Dokumentarfilm (Italien\, 2015\, 90 min\, OmeU)\, Regie: Gianluca De Serio\, Massimiliano De Serio | Top Kino Saal 1\nTIPP: Filmbrunch – Pro vorgezeigtem Filmbrunchticket gibt es ab 10:30 Uhr eine Ermäßigung von bis zu 4 € auf ein Frühstück deiner Wahl im Top Kino (sonst reguläre Kartenpreise)\n► 13:00 | Fair-Fashion-Walk | Top Kino | Eintritt frei\, Anmeldung erwünscht\n► 18:00 | Mediterranea\, Spielfilm (Italien/Frankreich/USA/Deutschland/Katar\, 2015\, 107 min\, OmdU)\, Regie: Jonas Carpignano | Schikaneder\n► 20:00 | Kings of Nowhere\, Dokumentarfilm (Mexiko\, 2015\, 83 min\, OmeU)\, Regie: Betzabé Garcìa | Top Kino Saal 1\n► 20:30 | Above and Below\, Dokumentarfilm (Schweiz/Deutschland\, 2015\, 118 min\, OF Englisch – OmdU)\, Regie: Nicolas Steiner | Schikaneder\n► 22:00 | Konzert: GASMAC GILMORE | Brunnenpassage | Eintritt frei \nDJ-Line täglich ab 22:00 im Schikaneder mit DJ Sao Nicolao! \nTickets sind ab 27. November im Vorverkauf erhältlich! Weitere Infos auf www.thishumanworld.com \n
URL:https://www.strawanzerin.at/termin/this-human-world-2015-festivaltag-2/
LOCATION:FESTIVALZENTRALE / Paninoteca / Schikaneder Kino\, Margaretenstr. 22\, Wien\, Wien\, 1040\, Österreich
CATEGORIES:Deutsch,Eintrittspreis,Film,Sonstiges,Wien
ATTACH;FMTTYPE=:
ORGANIZER;CN="this%20human%20world":MAILTO:office@thishumanworld.com
GEO:48.196681;16.3651881
X-APPLE-STRUCTURED-LOCATION;VALUE=URI;X-ADDRESS=FESTIVALZENTRALE / Paninoteca / Schikaneder Kino Margaretenstr. 22 Wien Wien 1040 Österreich;X-APPLE-RADIUS=500;X-TITLE=Margaretenstr. 22:geo:16.3651881,48.196681
END:VEVENT
END:VCALENDAR