BEGIN:VCALENDAR
VERSION:2.0
PRODID:-//STRAWANZERIN - ECPv4.9.5//NONSGML v1.0//EN
CALSCALE:GREGORIAN
METHOD:PUBLISH
X-WR-CALNAME:STRAWANZERIN
X-ORIGINAL-URL:https://www.strawanzerin.at
X-WR-CALDESC:Veranstaltungen im STRAWANZERIN
BEGIN:VTIMEZONE
TZID:"Europe/Helsinki"
BEGIN:DAYLIGHT
TZOFFSETFROM:+0200
TZOFFSETTO:+0300
TZNAME:EEST
DTSTART:20150329T010000
END:DAYLIGHT
BEGIN:STANDARD
TZOFFSETFROM:+0300
TZOFFSETTO:+0200
TZNAME:EET
DTSTART:20151025T010000
END:STANDARD
END:VTIMEZONE
BEGIN:VEVENT
DTSTART;TZID="Europe/Helsinki":20151206T123000
DTEND;TZID="Europe/Helsinki":20151206T235500
DTSTAMP:20260423T175250
CREATED:20151113T145117Z
LAST-MODIFIED:20151125T132055Z
UID:21858-1449405000-1449446100@www.strawanzerin.at
SUMMARY:this human world 2015 - FESTIVALTAG 3
DESCRIPTION:Am dritten Tag des this human world Filmfestivals möchten wir euch folgende Veranstaltungen empfehlen. Das vollständige Programm findet ihr auf www.thishumanworld.com. \n► 12:30 | All of Me\, Dokumentarfilm (Mexiko\, 2014\, 85 min\, OmeU)\, Regie: Arturo González Villaseñor | Top Kino Saal 1\nTIPP: Filmbrunch – Pro vorgezeigtem Filmbrunchticket gibt es ab 10:30 Uhr eine Ermäßigung von bis zu 4 € auf ein Frühstück deiner Wahl im Top Kino (sonst reguläre Kartenpreise)\n► 18:00 | Those Who Said No\, Dokumentarfilm (Schweden\, 2014\, 89 min\, OmeU)\, Regie: Nima Sarvestani | Schikaneder\n► 20:00 | Die Menschenliebe\, Dokumentarfilm (Deutschland\, 2014\, 99 min\, OF Deutsch – OmeU)\, Regie: Maximilian Haslberger | Top Kino Saal 1\n► 20:15 | My Talk with Florence\, Dokumentarfilm (Österreich\, 2014\, 129 min\, OF Deutsch – OmeU)\, Regie: Paul Poet | Filmcasino\n► 21:00 | Claude Lanzmann: Spectres of the Shoah\, Dokumentarfilm (Vereinigtes Königreich/Kanada\, 2015\, 40 min\, OmeU)\, Regie: Adam Benzine | Top Kino Saal 2 \nDJ-Line täglich ab 22:00 im Schikaneder mit Thomas Ballhausen! \nTickets sind ab 27. November im Vorverkauf erhältlich! Weitere Infos auf www.thishumanworld.com \n
URL:https://www.strawanzerin.at/termin/this-human-world-2015-festivaltag-3/
LOCATION:FESTIVALZENTRALE / Paninoteca / Schikaneder Kino\, Margaretenstr. 22\, Wien\, Wien\, 1040\, Österreich
CATEGORIES:Deutsch,Eintrittspreis,Film,Sonstiges,Wien
ATTACH;FMTTYPE=image/jpeg:https://www.strawanzerin.at/wp-content/uploads/2015/11/thw03_©-Max-Berner-Die-Menschenliebe-©Maximilian-Haslberger-All-Of-Me-©Rise-and-Shine-World-Sales.jpg
ORGANIZER;CN="this%20human%20world":MAILTO:office@thishumanworld.com
GEO:48.196681;16.3651881
X-APPLE-STRUCTURED-LOCATION;VALUE=URI;X-ADDRESS=FESTIVALZENTRALE / Paninoteca / Schikaneder Kino Margaretenstr. 22 Wien Wien 1040 Österreich;X-APPLE-RADIUS=500;X-TITLE=Margaretenstr. 22:geo:16.3651881,48.196681
END:VEVENT
END:VCALENDAR