BEGIN:VCALENDAR
VERSION:2.0
PRODID:-//STRAWANZERIN - ECPv4.9.5//NONSGML v1.0//EN
CALSCALE:GREGORIAN
METHOD:PUBLISH
X-WR-CALNAME:STRAWANZERIN
X-ORIGINAL-URL:https://www.strawanzerin.at
X-WR-CALDESC:Veranstaltungen im STRAWANZERIN
BEGIN:VTIMEZONE
TZID:"Europe/Helsinki"
BEGIN:DAYLIGHT
TZOFFSETFROM:+0200
TZOFFSETTO:+0300
TZNAME:EEST
DTSTART:20150329T010000
END:DAYLIGHT
BEGIN:STANDARD
TZOFFSETFROM:+0300
TZOFFSETTO:+0200
TZNAME:EET
DTSTART:20151025T010000
END:STANDARD
END:VTIMEZONE
BEGIN:VEVENT
DTSTART;TZID="Europe/Helsinki":20151207T170000
DTEND;TZID="Europe/Helsinki":20151207T235500
DTSTAMP:20260422T043415
CREATED:20151113T145317Z
LAST-MODIFIED:20151125T132222Z
UID:21860-1449507600-1449532500@www.strawanzerin.at
SUMMARY:this human world 2015 - FESTIVALTAG 4
DESCRIPTION:Am vierten Tag des this human world Filmfestivals möchten wir euch folgende Veranstaltungen empfehlen. Das vollständige Programm findet ihr auf www.thishumanworld.com. \n► 19:00 | Tell Spring Not to Come This Year\, Dokumentarfilm (Vereinigtes Königreich/Afghanistan\, 2015\, 82 min\, OmeU)\, Regie: Saeed Taji Farouky\, Michael McEvoy | Top Kino Saal 2\n► 20:00 | Hope\, Spielfilm (Frankreich\, 2014\, 91 min\, OmeU) Regie: Boris Lojkine | Top Kino Saal 1\n► 20:30 | Monumenti\, Dokumentarfilm (Österreich\, 2014\, 71 min\, OmdU)\, Regie: Eva Hausberger | Schikaneder\n► 22:30 | Arianna\, Spielfilm (Italien\, 2015\, 83 min\, OmeU)\, Regie: Carlo Lavagna | Top Kino Saal 1\n► ab 22:30 | Premierenfeier: Fremme Brutal | Marea Alta | Eintritt frei \nDJ-Line täglich ab 22:00 im Schikaneder mit DJane Emily Escobar „Soulcat“! \nTickets sind ab 27. November im Vorverkauf erhältlich! Weitere Infos auf www.thishumanworld.com \n
URL:https://www.strawanzerin.at/termin/this-human-world-2015-festivaltag-4/
LOCATION:FESTIVALZENTRALE / Paninoteca / Schikaneder Kino\, Margaretenstr. 22\, Wien\, Wien\, 1040\, Österreich
CATEGORIES:Deutsch,Eintrittspreis,Film,Sonstiges,Wien
ATTACH;FMTTYPE=image/jpeg:https://www.strawanzerin.at/wp-content/uploads/2015/11/thw04_©-Max-Berner-Hope-©-Pyramide-Films-International-Arianna-©Rai-Com-S.p.A.jpg
ORGANIZER;CN="this%20human%20world":MAILTO:office@thishumanworld.com
GEO:48.196681;16.3651881
X-APPLE-STRUCTURED-LOCATION;VALUE=URI;X-ADDRESS=FESTIVALZENTRALE / Paninoteca / Schikaneder Kino Margaretenstr. 22 Wien Wien 1040 Österreich;X-APPLE-RADIUS=500;X-TITLE=Margaretenstr. 22:geo:16.3651881,48.196681
END:VEVENT
END:VCALENDAR