BEGIN:VCALENDAR
VERSION:2.0
PRODID:-//STRAWANZERIN - ECPv4.9.5//NONSGML v1.0//EN
CALSCALE:GREGORIAN
METHOD:PUBLISH
X-WR-CALNAME:STRAWANZERIN
X-ORIGINAL-URL:https://www.strawanzerin.at
X-WR-CALDESC:Veranstaltungen im STRAWANZERIN
BEGIN:VTIMEZONE
TZID:"Europe/Vienna"
BEGIN:DAYLIGHT
TZOFFSETFROM:+0100
TZOFFSETTO:+0200
TZNAME:CEST
DTSTART:20260329T010000
END:DAYLIGHT
BEGIN:STANDARD
TZOFFSETFROM:+0200
TZOFFSETTO:+0100
TZNAME:CET
DTSTART:20261025T010000
END:STANDARD
END:VTIMEZONE
BEGIN:VEVENT
DTSTART;TZID="Europe/Vienna":20260210T190000
DTEND;TZID="Europe/Vienna":20260210T190000
DTSTAMP:20260421T135614
CREATED:20260108T092946Z
LAST-MODIFIED:20260108T092946Z
UID:111677-1770750000-1770750000@www.strawanzerin.at
SUMMARY:Tiere als künstlerische Akteur*innen // Diskussion
DESCRIPTION:Die Ausrufung des „Animal Turn“ in den 1990er-Jahren markierte einen Wandel des Tier-Mensch-Verhältnisses. Sie leitete eine kulturwissenschaftliche Wende ein\, die auch die speziesübergreifende Kunst umfasste. Tierische „Künstler*innen“ wie das Schwein Pigcasso oder die documenta-Hündin Human erlangten Weltruhm.\nInwiefern wird dieser Diskurs von philosophisch-ästhetischen und tierethischen Gesichtspunkten geleitet? Wie kann die Kunst von nichtmenschlichen Tieren den Blick auf Kultur und Ästhetik erweitern und möglicherweise zu einer Verbesserung der Lebenssituation von Tieren beitragen? \nSamuel Camenzind\, Tierethiker\, Institut für Philosophie\, Universität Wien\nLena Lieselotte Schuster\, Künstlerin\, Interspecies Art Hub\, Wien\nModeration: Marissa Lôbo\, Künstlerin\, Kuratorin\, Wien \n
URL:https://www.strawanzerin.at/termin/tiere-als-kuenstlerische-akteurinnen-diskussion/
LOCATION:Depot – Kunst und Diskussion\, Breite Gasse 3\, Wien\, 1070\, Österreich
CATEGORIES:Deutsch,Gratis,Kunst/Kultur,Vortrag/Symposium,Wien
ATTACH;FMTTYPE=image/jpeg:https://www.strawanzerin.at/wp-content/uploads/2025/12/K1A7238_Logo_c_Bureau_Kies-8-scaled.jpg
ORGANIZER;CN="Depot%20-%20Kunst%20und%20Diskussion":MAILTO:depot@depot.or.at
END:VEVENT
END:VCALENDAR