BEGIN:VCALENDAR
VERSION:2.0
PRODID:-//STRAWANZERIN - ECPv4.9.5//NONSGML v1.0//EN
CALSCALE:GREGORIAN
METHOD:PUBLISH
X-WR-CALNAME:STRAWANZERIN
X-ORIGINAL-URL:https://www.strawanzerin.at
X-WR-CALDESC:Veranstaltungen im STRAWANZERIN
BEGIN:VTIMEZONE
TZID:"Europe/Vienna"
BEGIN:DAYLIGHT
TZOFFSETFROM:+0100
TZOFFSETTO:+0200
TZNAME:CEST
DTSTART:20180325T010000
END:DAYLIGHT
BEGIN:STANDARD
TZOFFSETFROM:+0200
TZOFFSETTO:+0100
TZNAME:CET
DTSTART:20181028T010000
END:STANDARD
END:VTIMEZONE
BEGIN:VEVENT
DTSTART;TZID="Europe/Vienna":20180430T230000
DTEND;TZID="Europe/Vienna":20180501T060000
DTSTAMP:20260421T205853
CREATED:20180325T165221Z
LAST-MODIFIED:20180326T093431Z
UID:53755-1525129200-1525154400@www.strawanzerin.at
SUMMARY:Tim Westwood meets Lollipop
DESCRIPTION:Tim Westwood meets Lollipop part II \nTim Westwood\, Hip-Hop DJ Nr.1 in Europa!\nwww.timwestwood.com\nyoutube/timwestwoodtv \nWestwood is the most recognized DJ in the UK and beyond. He is regarded as the most influential figure in hip hop in Europe and as a pioneer of the UK scene. \nTim held the number 1 Urban show on Radio 1 & 1Xtra for nearly 20 years. A new show on Choice FM was launched on the 21st September 2013\, broadcasting every Saturday from 9-11pm. His YouTube channel has over 180 million video views\, and his twitter has over 400\,000 followers. He has a close working relationship with all of the major urban artists from Jay Z to Lil Wayne\, Nicki Minaj to Drake.\nHe has sold over 5 million albums to date with the biggest selling urban compilation in history. In 2012 Tim won the Global Spin Awards for European DJ of the Year.  \n———————————\nSupport line up:\nAM8ONE – 3GGA – DJ Miles \nAbendkassa: 13 Euro\n**Ladies 10 Euro bis 1:00Uhr\n**Students 10Euro\n** Guestlist 10 Euro \nLocation:\nKitch Club\nFalkestrasse 5\n1010 Wien \nWWW.FACEBOOK.COM/FEELGOODMZIK\nWWW.FACEBOOK.COM/LOLLIPOPBYFGM\nInstagram: Lollipop_vie \n
URL:https://www.strawanzerin.at/termin/tim-westwood-meets-lollipop/
LOCATION:KITCH Club\, Falkestrasse 5\, 1010 Wien\, Wien\, Wien\, Österreich
CATEGORIES:DJ-Line,Party
ATTACH;FMTTYPE=image/jpeg:https://www.strawanzerin.at/wp-content/uploads/2018/03/Westwood-2.jpg
ORGANIZER;CN="Lollipop%20vie":MAILTO:feelgoodmzik@gmail.com
GEO:48.2085162;16.3808939
X-APPLE-STRUCTURED-LOCATION;VALUE=URI;X-ADDRESS=KITCH Club Falkestrasse 5 1010 Wien Wien Wien Österreich;X-APPLE-RADIUS=500;X-TITLE=Falkestrasse 5:geo:16.3808939,48.2085162
END:VEVENT
END:VCALENDAR