BEGIN:VCALENDAR
VERSION:2.0
PRODID:-//STRAWANZERIN - ECPv4.9.5//NONSGML v1.0//EN
CALSCALE:GREGORIAN
METHOD:PUBLISH
X-WR-CALNAME:STRAWANZERIN
X-ORIGINAL-URL:https://www.strawanzerin.at
X-WR-CALDESC:Veranstaltungen im STRAWANZERIN
BEGIN:VTIMEZONE
TZID:"Europe/Vienna"
BEGIN:DAYLIGHT
TZOFFSETFROM:+0100
TZOFFSETTO:+0200
TZNAME:CEST
DTSTART:20210328T010000
END:DAYLIGHT
BEGIN:STANDARD
TZOFFSETFROM:+0200
TZOFFSETTO:+0100
TZNAME:CET
DTSTART:20211031T010000
END:STANDARD
END:VTIMEZONE
BEGIN:VEVENT
DTSTART;TZID="Europe/Vienna":20211015T180000
DTEND;TZID="Europe/Vienna":20211015T220000
DTSTAMP:20260420T124311
CREATED:20211011T085144Z
LAST-MODIFIED:20211013T062921Z
UID:81077-1634320800-1634335200@www.strawanzerin.at
SUMMARY:Tombola IV
DESCRIPTION:Einladung zur Ausstellungseröffnung. \nKünstler*innenteams: \nTombola ist ein von Terese Kasalicky und Heti Prack initiiertes Ausstellungsformat. Künstler*innenteams werden eingeladen ihre Themen und Medien in den Lostopf zu schmeißen\, der dann neu gemischt und gezogen wird. Die Bedingung für neue Kunstwerke werden so gesetzt und die Resultate ausgestellt.\nDer Zutritt erfolgt unter Einhaltung der aktuellen Corona-Maßnahmen. Das Tragen von FFP2-Masken ist beim Besuch der Ausstellung verpflichtend. \nSarah Fripon & Paul Robas\nSasha Pirker & Adnan Balcinovic\nEva Seiler & Eva Engelbert\nNadine Lemke & Marit Wolters\nConstanze Schweiger & Wiener Times\nChristian Egger & Anna Hofbauer \n
URL:https://www.strawanzerin.at/termin/tombola-iv/
LOCATION:New Jörg\, Jägerstraße 56\, Wien\, Wien\, 1200\, Österreich
CATEGORIES:Ausstellung,Gratis,Kunst/Kultur,Wien
ATTACH;FMTTYPE=image/jpeg:https://www.strawanzerin.at/wp-content/uploads/2021/10/unnamed.jpg
END:VEVENT
END:VCALENDAR