BEGIN:VCALENDAR
VERSION:2.0
PRODID:-//STRAWANZERIN - ECPv4.9.5//NONSGML v1.0//EN
CALSCALE:GREGORIAN
METHOD:PUBLISH
X-WR-CALNAME:STRAWANZERIN
X-ORIGINAL-URL:https://www.strawanzerin.at
X-WR-CALDESC:Veranstaltungen im STRAWANZERIN
BEGIN:VTIMEZONE
TZID:"Europe/Helsinki"
BEGIN:DAYLIGHT
TZOFFSETFROM:+0200
TZOFFSETTO:+0300
TZNAME:EEST
DTSTART:20160327T010000
END:DAYLIGHT
BEGIN:STANDARD
TZOFFSETFROM:+0300
TZOFFSETTO:+0200
TZNAME:EET
DTSTART:20161030T010000
END:STANDARD
END:VTIMEZONE
BEGIN:VEVENT
DTSTART;TZID="Europe/Helsinki":20161218T160000
DTEND;TZID="Europe/Helsinki":20161218T180000
DTSTAMP:20260420T194121
CREATED:20161212T121803Z
LAST-MODIFIED:20161212T121803Z
UID:37759-1482076800-1482084000@www.strawanzerin.at
SUMMARY:Tonvoll Adventkonzert  -  Gemeinsam ankommen
DESCRIPTION:Adventkonzert \n
URL:https://www.strawanzerin.at/termin/tonvoll-adventkonzert-gemeinsam-ankommen/
LOCATION:Pfarrkirche St. Elisabeth\, Sankt-Elisabeth-Platz 9\, Wien\, Wien\, 1040\, Österreich
CATEGORIES:Deutsch,Eintrittspreis,Kunst/Kultur,Musik,Wien
ATTACH;FMTTYPE=image/jpeg:https://www.strawanzerin.at/wp-content/uploads/2016/12/adventkonzert2016_flyer_insta_20161208-1.jpg
ORGANIZER;CN="Kerschbaums%20Tonvoll":MAILTO:chor@tonvoll.at
GEO:48.1906793;16.3747509
X-APPLE-STRUCTURED-LOCATION;VALUE=URI;X-ADDRESS=Pfarrkirche St. Elisabeth Sankt-Elisabeth-Platz 9 Wien Wien 1040 Österreich;X-APPLE-RADIUS=500;X-TITLE=Sankt-Elisabeth-Platz 9:geo:16.3747509,48.1906793
END:VEVENT
END:VCALENDAR