BEGIN:VCALENDAR
VERSION:2.0
PRODID:-//STRAWANZERIN - ECPv4.9.5//NONSGML v1.0//EN
CALSCALE:GREGORIAN
METHOD:PUBLISH
X-WR-CALNAME:STRAWANZERIN
X-ORIGINAL-URL:https://www.strawanzerin.at
X-WR-CALDESC:Veranstaltungen im STRAWANZERIN
BEGIN:VTIMEZONE
TZID:"Europe/Helsinki"
BEGIN:DAYLIGHT
TZOFFSETFROM:+0200
TZOFFSETTO:+0300
TZNAME:EEST
DTSTART:20160327T010000
END:DAYLIGHT
BEGIN:STANDARD
TZOFFSETFROM:+0300
TZOFFSETTO:+0200
TZNAME:EET
DTSTART:20161030T010000
END:STANDARD
END:VTIMEZONE
BEGIN:VEVENT
DTSTART;TZID="Europe/Helsinki":20161017T170000
DTEND;TZID="Europe/Helsinki":20161017T170000
DTSTAMP:20260421T054431
CREATED:20161017T170810Z
LAST-MODIFIED:20161019T090733Z
UID:35435-1476723600-1476723600@www.strawanzerin.at
SUMMARY:TOUCH THE REALITY. RETHINKING KEYWORDS OF POLITICAL PERFORMANCE
DESCRIPTION:„Wir müssen Duchamps Pinkelbecken in die Toilettenräume zurückschaffen“ (Tania Bruguera)\nPussy Riot\, Ai Weiwei\, Theaster Gates: Bekannte Namen für Kunst\, die antritt\, die Welt verändern zu wollen\, die politisch und gesellschaftlich interveniert.  \nMit „Touch the Reality. Rethinking Keywords of Political Performance“ setzt Kuratorin Ursula Maria Probst teils laute\, teils aber auch subtile Interventionen in Beziehung zueinander\, macht sich auf die Spurensuche nach Praktiken politischer Performance heute. Schwerpunkt ist Kunst aus Kuba von Tania Bruguera\, Fidel García\, Susana Pilar\, Grethell Rasúa und Dania González Sanabria\, aber auch Künstler_innen aus arabischen\, lateinamerikanischen\, asiatischen und osteuropäischen Ländern sowie Österreich sind vertreten. Darüber hinaus sind die beteiligten Künstler_innen eingeladen\, vor Ort Projekte zu entwickeln. Kuratorin Ursula Maria Probst war 2015 Kuratorin der österreichischen Beiträge der Havanna-Biennale und recherchierte die Kunstszene in Kuba. \n
URL:https://www.strawanzerin.at/termin/touch-the-reality-rethinking-keywords-of-political-performance/
LOCATION:KUNSTRAUM NIEDEROESTERREICH\, Herrengasse 13\, Wien\, Wien\, 1014\, Österreich
GEO:48.2101378;16.3652306
X-APPLE-STRUCTURED-LOCATION;VALUE=URI;X-ADDRESS=KUNSTRAUM NIEDEROESTERREICH Herrengasse 13 Wien Wien 1014 Österreich;X-APPLE-RADIUS=500;X-TITLE=Herrengasse 13:geo:16.3652306,48.2101378
END:VEVENT
END:VCALENDAR