BEGIN:VCALENDAR
VERSION:2.0
PRODID:-//STRAWANZERIN - ECPv4.9.5//NONSGML v1.0//EN
CALSCALE:GREGORIAN
METHOD:PUBLISH
X-WR-CALNAME:STRAWANZERIN
X-ORIGINAL-URL:https://www.strawanzerin.at
X-WR-CALDESC:Veranstaltungen im STRAWANZERIN
BEGIN:VTIMEZONE
TZID:"Europe/Vienna"
BEGIN:DAYLIGHT
TZOFFSETFROM:+0100
TZOFFSETTO:+0200
TZNAME:CEST
DTSTART:20240331T010000
END:DAYLIGHT
BEGIN:STANDARD
TZOFFSETFROM:+0200
TZOFFSETTO:+0100
TZNAME:CET
DTSTART:20241027T010000
END:STANDARD
END:VTIMEZONE
BEGIN:VEVENT
DTSTART;TZID="Europe/Vienna":20240307T190000
DTEND;TZID="Europe/Vienna":20240307T190000
DTSTAMP:20260422T050911
CREATED:20231208T172942Z
LAST-MODIFIED:20231208T172942Z
UID:95732-1709838000-1709838000@www.strawanzerin.at
SUMMARY:Trans* Feminismen // Zeitschriftenpräsentation
DESCRIPTION:Trans* Leben stehen aktuell im Zentrum gesellschaftlicher Debatten und Politiken. An ihnen werden Vorstellungen von Fortschritt und Freiheit\, aber auch Bedrohung und Niedergang ausgehandelt. Zugleich prägen diese Debatten und Politiken trans* Leben\, verunmöglichen\, erschweren\, normieren sie. Trans* zentrierte Analysen dieser Verhältnisse sind noch immer randständig. Femina Politica interveniert in diese Marginalisierungen und entwickelt dezidiert trans*feministische Analysen der Gegenwart. \nMascha Linke\, Humboldt Universität zu Berlin\nGundula Ludwig\, Universität Innsbruck\nYv Nay\, Zürcher Hochschule für angewandte Wissenschaften\nZoe* Steinsberger\, Universität Innsbruck \nZoe* Steinsberger & Gundula Ludwig (Hg.)\, Femina Politica: Trans* Ungleichzeitigkeiten und trans* Feminismen\, 2023 \nIn Kooperation mit dem Center Interdisziplinäre Geschlechterforschung Innsbruck und Femina Politica. Zeitschrift für feministische Politikwissenschaft. \n
URL:https://www.strawanzerin.at/termin/trans-feminismen-zeitschriftenpraesentation/
LOCATION:Depot – Kunst und Diskussion\, Breite Gasse 3\, Wien\, 1070\, Österreich
CATEGORIES:Deutsch,Feminismus,Gratis,Queer,Vortrag/Symposium,Wien
ORGANIZER;CN="Depot%20-%20Kunst%20und%20Diskussion":MAILTO:depot@depot.or.at
END:VEVENT
END:VCALENDAR