BEGIN:VCALENDAR
VERSION:2.0
PRODID:-//STRAWANZERIN - ECPv4.9.5//NONSGML v1.0//EN
CALSCALE:GREGORIAN
METHOD:PUBLISH
X-WR-CALNAME:STRAWANZERIN
X-ORIGINAL-URL:https://www.strawanzerin.at
X-WR-CALDESC:Veranstaltungen im STRAWANZERIN
BEGIN:VTIMEZONE
TZID:"Europe/Vienna"
BEGIN:DAYLIGHT
TZOFFSETFROM:+0100
TZOFFSETTO:+0200
TZNAME:CEST
DTSTART:20190331T010000
END:DAYLIGHT
BEGIN:STANDARD
TZOFFSETFROM:+0200
TZOFFSETTO:+0100
TZNAME:CET
DTSTART:20191027T010000
END:STANDARD
END:VTIMEZONE
BEGIN:VEVENT
DTSTART;TZID="Europe/Vienna":20191014T200000
DTEND;TZID="Europe/Vienna":20191014T213000
DTSTAMP:20260420T132303
CREATED:20191008T081858Z
LAST-MODIFIED:20191011T142328Z
UID:69419-1571083200-1571088600@www.strawanzerin.at
SUMMARY:Transition Queerfilmnacht: Bonnie & Bonnie
DESCRIPTION:BONNIE & BONNIE (2018)\nSpielfilm | DE | 90 min. \nVotiv Kino | 14.10.2019 | 20:00 Uhr\nTickets gibt’s direkt im Kino\, und nun auch online!\nEinheitspreis: 9€ \nYara ist 17 und lebt mit ihrem Vater\, der aus Albanien stammt\, und den drei Geschwistern in Hamburg-Wilhelmsburg. Neben ihrem Job im Supermarkt schmeißt sie den Familienhaushalt und vertreibt sich die Freizeit mit ihrer Clique. Als sie eines Tages auf der Straße der toughen Kiki begegnet\, ist plötzlich nichts mehr wie zuvor. Die beiden Mädchen verlieben sich auf den ersten Blick. Während Yara in der Beziehung eine neue\, bislang ungekannte Freiheit entdeckt\, erlebt Kiki\, die in Jugendheimen aufgewachsen ist\, das erste Mal das Gefühl von echter Nähe und Zugehörigkeit. Aber niemand darf von der Liebe etwas wissen\, vor allem nicht Yaras konservativer Vater\, der schon einen Ehemann für sie ausgesucht hat\, oder ihr Bruder Bekim\, der selbst ein Auge auf Kiki geworfen hat. Als die Familie trotzdem von der Beziehung erfährt\, muss sich Yara entscheiden. Und flieht mit ihrer Geliebten in Richtung Südfrankreich … \nRegisseur Ali Hakim\, der selbst in Hamburg-Wilhelmsburg aufgewachsen ist\, erzählt eine berührende Geschichte von zwei jungen Frauen\, die wie ihre filmhistorischen Vorbilder Bonnie und Clyde ins Weite aufbrechen müssen\, um ihre Liebe zu leben. Die beiden Nachwuchsdarstellerinnen Emma Drogunova und Sarah Mahita sind als rebellisches Liebespärchen\, das sich von niemanden die Gefühle verbieten lässt\, die großen Entdeckungen des packenden romantischen Road Movies. \n:::::::::::::::::::::::::::::::::::::::::::::::::::: \nIn Kooperation mit Votiv Kino und Stadtkino Wien und in enger Zusammenarbeit mit Edition Salzgeber präsentieren wir euch monatlich die besten queeren Filme aus aller Welt auf großer Leinwand. 📽🍿 \nLASS UNS IN KONTAKT BLEIBEN! ❤️ \nDu willst keine Ausgabe der kommenden TRANSITON Queerfilmnacht verpassen? Dann melde dich gleich für unseren Newsletter auf www.queerfilmnacht.at an oder folge uns auf: \n▶️ www.facebook.com/iqmft\n▶️ www.instagram.com/transitionfilmfestival \n
URL:https://www.strawanzerin.at/termin/transition-queerfilmnacht-bonnie-bonnie/
LOCATION:Votiv Kino\, Währinger Straße 12\, Wien\, Wien\, 1090\, Österreich
CATEGORIES:Film
ATTACH;FMTTYPE=image/jpeg:https://www.strawanzerin.at/wp-content/uploads/2019/10/71183147_2525155347523567_7305781581434585088_o.jpg
ORGANIZER;CN="TRANSITION%20FILM%20FESTIVAL":MAILTO:office@transitionfilmfestival.com
GEO:48.2167563;16.3599272
X-APPLE-STRUCTURED-LOCATION;VALUE=URI;X-ADDRESS=Votiv Kino Währinger Straße 12 Wien Wien 1090 Österreich;X-APPLE-RADIUS=500;X-TITLE=Währinger Straße 12:geo:16.3599272,48.2167563
END:VEVENT
END:VCALENDAR