BEGIN:VCALENDAR
VERSION:2.0
PRODID:-//STRAWANZERIN - ECPv4.9.5//NONSGML v1.0//EN
CALSCALE:GREGORIAN
METHOD:PUBLISH
X-WR-CALNAME:STRAWANZERIN
X-ORIGINAL-URL:https://www.strawanzerin.at
X-WR-CALDESC:Veranstaltungen im STRAWANZERIN
BEGIN:VTIMEZONE
TZID:"Europe/Vienna"
BEGIN:DAYLIGHT
TZOFFSETFROM:+0100
TZOFFSETTO:+0200
TZNAME:CEST
DTSTART:20250330T010000
END:DAYLIGHT
BEGIN:STANDARD
TZOFFSETFROM:+0200
TZOFFSETTO:+0100
TZNAME:CET
DTSTART:20251026T010000
END:STANDARD
END:VTIMEZONE
BEGIN:VEVENT
DTSTART;TZID="Europe/Vienna":20250429T203000
DTEND;TZID="Europe/Vienna":20250429T223000
DTSTAMP:20260420T230044
CREATED:20250327T125847Z
LAST-MODIFIED:20250327T125847Z
UID:106939-1745958600-1745965800@www.strawanzerin.at
SUMMARY:Traumhaftes Konzertereignis: Tünde Jakab mit »Enigma« im Reigen live
DESCRIPTION:Wer glamouröse\, anspruchsvolle Popmusik mit Jazz- und Blues Elementen liebt\, findet bei Tünde Jakab großen Anklang. Nach ihrem von der Kritik gelobten Debüt mit »The Love Revolution« feiert die in Wien lebende Sängerin und Liedermacherin nun die Veröffentlichung ihres zweiten Albums »Enigma«. Die Songs darauf kreisen um Rätsel des Lebens\, die uns alle beschäftigen. Es geht um Liebe\, um Beziehungen und um Träume. \nDie letzte Single des Albums heißt »Don’t Wake Me Up«\, dessen Musikvideo (ab 28. März) sich von einer ganz märchenhaften Seite zeigt. Beim Album-Release-Konzert am Dienstag\, dem 29. April 2025 um 20:30 Uhr im Reigen sind neben Tünde Jakab (Gesang & Flöte) auch Valentin Oman (Klavier)\, Thomas Hechenberger (Gitarre)\, Thomas Mora (Bass) und Wolfgang Luckner (Schlagzeug) sowie Akjela & Band (Support) mit von der Partie.  \nKarten:\nTel. +43 1 8940094 \nBild: Tünde Jakab präsentiert im Reigen ihr neues Album »Enigma«\, Foto/© Lea Föger \n
URL:https://www.strawanzerin.at/termin/traumhaftes-konzertereignis-tuende-jakab-mit-enigma-im-reigen-live/
LOCATION:Reigen Live\, Hadikgasse 62\, Wien\, Wien\, 1140\, Österreich
CATEGORIES:ab 7,Musik,Wien
ATTACH;FMTTYPE=image/jpeg:https://www.strawanzerin.at/wp-content/uploads/2025/03/TuendeJakab_Foto_LeaFoeger.jpeg
GEO:48.1883854;16.3036006
X-APPLE-STRUCTURED-LOCATION;VALUE=URI;X-ADDRESS=Reigen Live Hadikgasse 62 Wien Wien 1140 Österreich;X-APPLE-RADIUS=500;X-TITLE=Hadikgasse 62:geo:16.3036006,48.1883854
END:VEVENT
END:VCALENDAR