BEGIN:VCALENDAR
VERSION:2.0
PRODID:-//STRAWANZERIN - ECPv4.9.5//NONSGML v1.0//EN
CALSCALE:GREGORIAN
METHOD:PUBLISH
X-WR-CALNAME:STRAWANZERIN
X-ORIGINAL-URL:https://www.strawanzerin.at
X-WR-CALDESC:Veranstaltungen im STRAWANZERIN
BEGIN:VTIMEZONE
TZID:"Europe/Paris"
BEGIN:DAYLIGHT
TZOFFSETFROM:+0100
TZOFFSETTO:+0200
TZNAME:CEST
DTSTART:20150329T010000
END:DAYLIGHT
BEGIN:STANDARD
TZOFFSETFROM:+0200
TZOFFSETTO:+0100
TZNAME:CET
DTSTART:20151025T010000
END:STANDARD
END:VTIMEZONE
BEGIN:VEVENT
DTSTART;TZID="Europe/Paris":20150514T140000
DTEND;TZID="Europe/Paris":20150514T230000
DTSTAMP:20260421T184744
CREATED:20150511T144606Z
LAST-MODIFIED:20150602T134957Z
UID:14822-1431612000-1431644400@www.strawanzerin.at
SUMMARY:(T)RAUMPARADEMO
DESCRIPTION:(T)RAUMPARADEMO – Recht auf Freiraum \nWir fordern frei zugängliche Plätze!\nWir fordern mehr Mitgestaltungsrecht im Stadtraum!\nWir fordern unsere kulturellen Bedürfnisse selbstbestimmt leben zu können! \nAm 14. Mai versammeln wir uns und ziehen als (T)Raumparademo durch die Stadt mit Kunstperformances\,\nMusik und einer klaren Forderung:\nWir brauchen mehr Freiraum in Wien! \nMit unserer Demonstration wollen wir darauf aufmerksam machen\, dass der öffentliche Raum ein Gut ist\,\ndas jedem gehört\, von jedem genutzt und bespielt werden kann und sollte. Doch die Orte werden immer\nweniger\, an denen Menschen selbstbestimmt ihr Zusammenleben gestalten und ihren kulturellen\nBedürfnissen entsprechen können – unabhängig von Herkunft oder Einkommen\, von Geschlechter­ oder\nSexualitätsnormen. Wir wollen eine offene Stadt\, die Möglichkeiten einräumt\, die Individualitäten und\nGemeinschaften stattfinden lässt – eine lebendige Stadt! \nTreffpunkt: 14.00 Uhr auf dem Platz der Menschenrechte\nStart: 15.00 Uhr\nAbschlusskundgebung: 19.00 -22.00 Uhr auf der Praterhauptallee \n(T)RAUMPARADEMO AFTERPARTY in der PRATERSAUNA:\nhttps://www.facebook.com/events/438264196335281/  \nSCHLIESST EUCH AN UND WERDET TEIL DER TRAUMPARADE! \n-> buero@tddt.info \nDie Demonstration ist von der\nSELFSIGHTSEEING COMPANY organisiert.\nIn Kooperation mit Prof. Brigitte Marschall und den Studierenden der Theater-\, Film- und Medienwissenschaft der Universität Wien. \n☼ ⚓ ☼ ⚓ ☼ ⚓ ☼ ⚓ ☼ ⚓ ☼ ⚓ ☼ ⚓ ☼ ⚓ ☼ ⚓ ☼ ⚓ ☼ \nFACTS \n14.05. (T)raumparademo & Afterparty ->\nhttps://www.facebook.com/events/438264196335281/  \n15.05. mehr Infos bald\n16.05. mehr Infos bald  \n☼ ⚓ ☼ ⚓ ☼ ⚓ ☼ ⚓ ☼ ⚓ ☼ ⚓ ☼ ⚓ ☼ ⚓ ☼ ⚓ ☼ ⚓ ☼ \n* „Oneironautica“ wird nicht stattfinden: \nDas Tanz durch den Tag Festival “Oneironautica” kann in der geplanten Form\, aufgrund des hohen Ressourcenaufwandes\, nicht stattfinden und verwandelt sich in eine Traumparade!\nMehr Infos dazu hier\n-> http://tddt.info/oneironautica-wird-zur-traumparade-offener-brief/ \n☼ ⚓ ☼ ⚓ ☼ ⚓ ☼ ⚓ ☼ ⚓ ☼ ⚓ ☼ ⚓ ☼ ⚓ ☼ ⚓ ☼ ⚓ ☼ \n♒♒♒♒♒♒♒♒♒♒♒♒♒♒♒♒♒♒♒ \nFOLGEN WIR DEN KOMPASS UNSERES HERZENS \nLASSEN WIR TRÄUME LEBEN ♡ \n♒♒♒♒♒♒♒♒♒♒♒♒♒♒♒♒♒♒♒ \n☼ \nERMÖGLICHE TddT ❥\nhttp://tddt.info/crowdfunding/ \n☼ ⚓ ☼ ⚓ ☼ ⚓ ☼ ⚓ ☼ ⚓ ☼ ⚓ ☼ ⚓ ☼ ⚓ ☼ ⚓ ☼ ⚓ ☼ \n
URL:https://www.strawanzerin.at/termin/traumparademo/
LOCATION:Österreich
CATEGORIES:Deutsch,Gratis,Kundgebung,Recht auf Stadt,Wien
END:VEVENT
END:VCALENDAR