BEGIN:VCALENDAR
VERSION:2.0
PRODID:-//STRAWANZERIN - ECPv4.9.5//NONSGML v1.0//EN
CALSCALE:GREGORIAN
METHOD:PUBLISH
X-WR-CALNAME:STRAWANZERIN
X-ORIGINAL-URL:https://www.strawanzerin.at
X-WR-CALDESC:Veranstaltungen im STRAWANZERIN
BEGIN:VTIMEZONE
TZID:"Europe/Paris"
BEGIN:DAYLIGHT
TZOFFSETFROM:+0100
TZOFFSETTO:+0200
TZNAME:CEST
DTSTART:20170326T010000
END:DAYLIGHT
BEGIN:STANDARD
TZOFFSETFROM:+0200
TZOFFSETTO:+0100
TZNAME:CET
DTSTART:20171029T010000
END:STANDARD
END:VTIMEZONE
BEGIN:VEVENT
DTSTART;TZID="Europe/Paris":20170318T110000
DTEND;TZID="Europe/Paris":20170318T130000
DTSTAMP:20260421T205928
CREATED:20170222T101450Z
LAST-MODIFIED:20170227T144111Z
UID:40269-1489834800-1489842000@www.strawanzerin.at
SUMMARY:Trump: Da wird einem halt angst und bang\, ...
DESCRIPTION:Die Welt steht auf kein’ Fall mehr lang\, lang\, lang\, lang\, lang\, lang.* \n**English version below** \nMatinee mit Nancy Fraser\, Eli Zaretzky\, Marlene Streeruwitz und Walter Baier.\nModeration: Tamara Ehs\nIn Englisch und Deutsch (Simultandolmetsch) \nEintritt frei\, Reservierung von Zählkarten erforderlich:\nTel: 01 5231226 / www.kosmostheater.at / karten@kosmostheater.at \nVeranstaltet von transform! europe\nin Kooperation mit:\nKosmosTheater\, transform!at\, Frauenhetz\, Plattform 20.000 Frauen\, Institut für Wissenschaft und Kunst\, Institut für Politikwissenschaft der Universität Wien\, Akademie der bildenden Künste Wien\, ÖH Uni Wien\, Institut für Internationale Entwicklung der Universität Wien \nDie Wahl eines Mannes zum 45. Präsidenten der USA\, der Rassismus und Frauenverachtung nicht nur nicht verbirgt\, sondern zu seinem Markenzeichen gemacht hat\, überraschte. Die Welt staunt\, was alles möglich ist. Der Verwunderung folgte Beunruhigung nach der Präsentation einer US-Regierung\, die sich wie das Who-is-who der Leugner_innen des Klimawandels\, des reaktionären Obskurantismus und Militarismus liest. Erste Maßnahmen der neuen Administration sorgten selbst in den Institutionen für Entsetzen. \nVieles\, was uns heute aus Washington erreicht\, ist grotesk\, doch handelt es sich nicht um einen schlechten Witz. Trump und seine europäischen Epigon_innen\, Strache\, Hofer\, Orbàn\, Le Pen\, Wilders machen\, was sie ankündigten. Sie führen einen Kreuzzug gegen „politische Korrektheit“ und das „liberale Establishment“\, im Grunde jedoch gegen Demokratie\, Frauenrechte\, Rechtsstaat und Meinungsfreiheit. \nDagegen hat sich in den USA und weltweit eine Protestbewegung gebildet\, in der Feminist_innen\, Sozialist_innen\, Menschrechtler_innen\, Gegner_innen des Rassismus und Gewerkschafter_innen sich gemeinsam mit Liberalen gegen die reale Gefahr wenden\, die der Freiheit und der Demokratie drohen. \nDer Wahlsieg Trumps und der Aufstieg nationalistischer\, rechtsradikaler Bewegungen in ganz Europa und weltweit stellen auch eine neue intellektuelle Herausforderung dar\, scheinen sie doch das Zeitalter\, in dem Kapitalismus und Demokratie miteinander zu koexistieren vorgegeben haben\, zu beenden. Wie können Freiheit und Demokratie im Zeitalter eines historischen weltweiten Umbruchs sozialer und politischer Verhältnisse verteidigt und ausgebaut werden? \nDiese Fragen wollen wir diskutieren mit:\nNancy Fraser und Eli Zaretzky\, zwei der namhaftesten US-amerikanischen Intellektuellen\, die sich auf Kurzaufenthalt in Wien befinden\, sowie mit Marlene Streeruwitz\, Autorin\, Regisseurin und feministische Theoretikerin und Walter Baier\, politischer Koordinator des europäischen Netzwerkes transform! europe. Es moderiert die Politikwissenschafterin Tamara Ehs. \n* Kometenlied aus Der böse Geist Lumpacivagabundus (Uraufführung April 1833) von Johann Nestroy \n—– \nTrump: What does his election bring for the world? \nMatinee with Nancy Fraser\, Eli Zaretzky\, Marlene Streeruwitz and Walter Baier. Moderator: Tamara Ehs \nIn English and German with simultaneous interpretation \nFree entry via numbered ticket\, reservation is required:\nTel: +43 1 5231226 / www.kosmostheater.at / karten@kosmostheater.at \nOrganised by transform! europe \nIn partnership with:\nKosmosTheater\, transform!at\, Frauenhetz\, Plattform 20.000 Frauen\, Institut für Wissenschaft und Kunst\, Institut für Politikwissenschaft\, ÖH Uni Wien\, Akademie der bildenden Künste \n—————————————————————————– \nThe election of a man to the role of 45th President of the USA who not only makes no attempt to hide his racist views and contempt for women\, but who has actually turned these into his trademarks came as a surprise. The world stands amazed to see what is actually possible. After the presentation of a US Government that read like a Who’s Who of climate change deniers\, reactionary obscurantists and militarists\, astonishment was superseded by anxiety. The first steps taken by the new Administration sent shockwaves around the world and was met with consternation even in the Institutions. \nMuch of what reaches us today from Washington is grotesque\, but it is not a matter of a bad joke. Trump and his European imitators\, Strache\, Hofer\, Orbán\, Le Pen and Wilders\, are doing what they said they would. They are cursading against “political correctness” and the “liberal Establishment”\, but really they have begun a war against democracy\, women’s rights\, rule of law and freedom of opinion. \nConversely\, an unprecedented protest movement has formed in the USA and around the world\, in which feminists\, socialists\, human rights activists\, anti-racism campaigners and unionists are uniting with liberals against the real dangers that threaten freedom and democracy. \nTrump’s election victory and the rise of nationalist\, radical right-wing groups throughout Europe and the world also represent a new intellectual challenge and seem to herald the end of an age in which capitalism and democracy have seemingly coexisted with each other. In an age of historic\, global upheaval of social and political relationships how can freedom and democracy be protected and strengthened? \nWe want to discuss these issues with:\nNancy Fraser and Eli Zaretzky\, two of US America’s most notable intellectuals\, who are in Vienna for a short stay. Also joining us in the discussions will be Marlene Streeruwitz\, author\, director and feminist theorist; and Walter Baier\, political coordinator of the European network transform! europe. Political scientist Tamara Ehs will act as moderator. \n*The German title „Da wird einem halt angst und bang\,\nDie Welt steht auf kein’ Fall mehr lang\, lang\, lang\, lang\, lang\, lang.“ is a quote from the Kometenlied [‘Comet Song’] from Der böse Geist Lumpacivagabundus (which premièred in April 1833 by Johann Nestroy) Translated it says „It makes us frightened and anxious\, the world is bound to end soon\, soon\, soon\, soon\, soon\, soon.“ \nPicture by Karla Ann Cote on flickr.com \n
URL:https://www.strawanzerin.at/termin/trump-da-wird-einem-halt-angst-und-bang/
LOCATION:KosmosTheater\, Siebensterngasse 42-44\, Wien\, Wien\, 1070\, Österreich
CATEGORIES:Antimilitarismus,Antirassimus,Barrierefrei,Deutsch,Englisch,Feminismus,freie Spende,Gratis,Kunst/Kultur,Region/Bundesland,Soziale Kämpfe,Transnational,Vortrag/Symposium,Wien
ATTACH;FMTTYPE=image/jpeg:https://www.strawanzerin.at/wp-content/uploads/2017/02/Nancy_Fraser_18Maerz.jpg
ORGANIZER;CN="transform%21%20europe":MAILTO:anastasiou@transform-network.net
GEO:48.2023501;16.3513241
X-APPLE-STRUCTURED-LOCATION;VALUE=URI;X-ADDRESS=KosmosTheater Siebensterngasse 42-44 Wien Wien 1070 Österreich;X-APPLE-RADIUS=500;X-TITLE=Siebensterngasse 42-44:geo:16.3513241,48.2023501
END:VEVENT
END:VCALENDAR