BEGIN:VCALENDAR
VERSION:2.0
PRODID:-//STRAWANZERIN - ECPv4.9.5//NONSGML v1.0//EN
CALSCALE:GREGORIAN
METHOD:PUBLISH
X-WR-CALNAME:STRAWANZERIN
X-ORIGINAL-URL:https://www.strawanzerin.at
X-WR-CALDESC:Veranstaltungen im STRAWANZERIN
BEGIN:VTIMEZONE
TZID:"Europe/Vienna"
BEGIN:DAYLIGHT
TZOFFSETFROM:+0100
TZOFFSETTO:+0200
TZNAME:CEST
DTSTART:20250330T010000
END:DAYLIGHT
BEGIN:STANDARD
TZOFFSETFROM:+0200
TZOFFSETTO:+0100
TZNAME:CET
DTSTART:20251026T010000
END:STANDARD
END:VTIMEZONE
BEGIN:VEVENT
DTSTART;TZID="Europe/Vienna":20251121T180000
DTEND;TZID="Europe/Vienna":20251121T210000
DTSTAMP:20260421T190835
CREATED:20251127T105938Z
LAST-MODIFIED:20251127T105938Z
UID:111120-1763748000-1763758800@www.strawanzerin.at
SUMMARY:Typographie als Übersetzen?
DESCRIPTION:Hans Peter Willberg hat für die spezifische typografische Gestaltungsweise\, die einen Text nicht -nur- zum Lesen aufbereitet (ihm »dient«)\, sondern ihn -auch- erschließt\, den Begriff der »inszenierenden Typografie« vorgeschlagen (1977/1990/1997). In dieser Perspektive erscheint das Buch als eine kleine Bühne\, als ein Schauplatz. Doch was genau wird dabei veranschaulicht? Der Plot? Bestimmte Worte? Ein Gedanke? Lässt sich auch das Unerzählbare darstellen? Was machen die unbedruckten Flächen in Otl Aichers Gestaltung des Buches »Eliza Eliza« von Ilse Aichinger (1965)? Inszenieren sie etwas? Oder versuchen sie nicht vielmehr etwas in Typografie zu übersetzen\, das im Text selbst nicht zur Sprache kommen kann? \n
URL:https://www.strawanzerin.at/termin/typographie-als-uebersetzen/
LOCATION:Versatorium – Verein für Gedichte und Übersetzen\, Am Modenapark 8-9/6/R01\, Gassenlokal an der Ecke Grimmelshausengasse\, Am Modenapark 8-9/6/R01\, Gassenlokal an der Ecke Grimmelshausengasse\, Wien\, 1030\, Österreich
CATEGORIES:Deutsch,Gratis,Literatur,Mehrsprachig,Treffen,Vortrag/Symposium,Wien
ATTACH;FMTTYPE=image/jpeg:https://www.strawanzerin.at/wp-content/uploads/2025/11/dittrich_typo.jpg
ORGANIZER;CN="Versatorium%20%E2%80%93%20Verein%20f%C3%BCr%20Gedichte%20und%20%C3%9Cbersetzen":MAILTO:transl@versatorium.at
END:VEVENT
END:VCALENDAR