BEGIN:VCALENDAR
VERSION:2.0
PRODID:-//STRAWANZERIN - ECPv4.9.5//NONSGML v1.0//EN
CALSCALE:GREGORIAN
METHOD:PUBLISH
X-WR-CALNAME:STRAWANZERIN
X-ORIGINAL-URL:https://www.strawanzerin.at
X-WR-CALDESC:Veranstaltungen im STRAWANZERIN
BEGIN:VTIMEZONE
TZID:"Europe/Vienna"
BEGIN:DAYLIGHT
TZOFFSETFROM:+0100
TZOFFSETTO:+0200
TZNAME:CEST
DTSTART:20220327T010000
END:DAYLIGHT
BEGIN:STANDARD
TZOFFSETFROM:+0200
TZOFFSETTO:+0100
TZNAME:CET
DTSTART:20221030T010000
END:STANDARD
END:VTIMEZONE
BEGIN:VEVENT
DTSTART;VALUE=DATE:20220124
DTEND;VALUE=DATE:20220126
DTSTAMP:20260421T030219
CREATED:20220202T121945Z
LAST-MODIFIED:20220202T121945Z
UID:82557-1642996800-1643083199@www.strawanzerin.at
SUMMARY:Über 100 kostenlose Schnupperkurse am Tag der Bildung
DESCRIPTION:Am 24. Jänner bieten die Wiener Volkshochschulen rechtzeitig vor dem Semesterstart zahlreiche Schnupperkurse und Beratungstermine an.\nEine neue Sprache für die nächste Reise erlernen oder das eingerostete Schulenglisch auffrischen? Eine Sportart suchen\, mit der Sie fit in den Frühling starten? Oder gar ein tolles Instrument spielen lernen? Nehmen Sie sich für dieses Jahr doch etwas vor\, das Sie immer schon einmal ausprobieren wollten!\nWer sich über Möglichkeiten informieren will\, ohne Matura studieren zu können\, besucht die Infotermine zu den Lehrgängen für die Studienberechtigungs- oder Berufsreifeprüfung. \n
URL:https://www.strawanzerin.at/termin/ueber-100-kostenlose-schnupperkurse-am-tag-der-bildung/
LOCATION:VHS Wien\, Wien\, Österreich
CATEGORIES:Gratis
ATTACH;FMTTYPE=image/jpeg:https://www.strawanzerin.at/wp-content/uploads/2022/01/ET_21.1._int_Tag_d_Bildung.jpg
ORGANIZER;CN="Die%20Wiener%20Volkshochschulen":MAILTO:petra.rath@vhs.at
END:VEVENT
END:VCALENDAR