BEGIN:VCALENDAR
VERSION:2.0
PRODID:-//STRAWANZERIN - ECPv4.9.5//NONSGML v1.0//EN
CALSCALE:GREGORIAN
METHOD:PUBLISH
X-WR-CALNAME:STRAWANZERIN
X-ORIGINAL-URL:https://www.strawanzerin.at
X-WR-CALDESC:Veranstaltungen im STRAWANZERIN
BEGIN:VTIMEZONE
TZID:"Europe/Vienna"
BEGIN:DAYLIGHT
TZOFFSETFROM:+0100
TZOFFSETTO:+0200
TZNAME:CEST
DTSTART:20240331T010000
END:DAYLIGHT
BEGIN:STANDARD
TZOFFSETFROM:+0200
TZOFFSETTO:+0100
TZNAME:CET
DTSTART:20241027T010000
END:STANDARD
END:VTIMEZONE
BEGIN:VEVENT
DTSTART;TZID="Europe/Vienna":20240528T173000
DTEND;TZID="Europe/Vienna":20240528T183000
DTSTAMP:20260421T025630
CREATED:20240425T153205Z
LAST-MODIFIED:20240425T153205Z
UID:98243-1716917400-1716921000@www.strawanzerin.at
SUMMARY:Über Tourismus - Dialogführung
DESCRIPTION:Mit Eva Guem und Michael Falkner\, Tourismusexpert*innen der Bank für Tirol und Vorarlberg \nDer Klimawandel stellt die Tourismuswirtschaft vor neue Herausforderungen. Welche Chancen ergeben sich durch nachhaltige Ansätze und welchen Einfluss haben diese auf Hotelkonzepte sowie Gäste? Eva Guem und Michael Falkner stehen Touristiker*innen täglich mit ihrer Expertise zur Seite. In der Dialogführung informieren sie über Trends und geben Denkanstöße zur Gestaltung zukunftsfähiger Hotellandschaften. \nEintrittspreise:\nFührung: € 3 zuzügl. Eintritt (€ 9 / € 7)\nmedium- und large-Partner*innen gratis \nAnmeldung erforderlich: anmeldung@azw.at \nFoto:\nEröffnung der Ausstellung „Über Tourismus“ Mi 20.03.2024\n© Foto: eSeL.at – Joanna Pianka \n
URL:https://www.strawanzerin.at/termin/ueber-tourismus-dialogfuehrung/
LOCATION:Architekturzentrum Wien\, Museumsplatz 1\, 1070 Wien\, 1070\, Österreich
ATTACH;FMTTYPE=image/jpeg:https://www.strawanzerin.at/wp-content/uploads/2024/04/eSeLat_JoannaPianka-0750.jpg
GEO:48.2026499;16.3591421
X-APPLE-STRUCTURED-LOCATION;VALUE=URI;X-ADDRESS=Architekturzentrum Wien Museumsplatz 1 1070 Wien 1070 Österreich;X-APPLE-RADIUS=500;X-TITLE=Museumsplatz 1:geo:16.3591421,48.2026499
END:VEVENT
END:VCALENDAR