BEGIN:VCALENDAR
VERSION:2.0
PRODID:-//STRAWANZERIN - ECPv4.9.5//NONSGML v1.0//EN
CALSCALE:GREGORIAN
METHOD:PUBLISH
X-WR-CALNAME:STRAWANZERIN
X-ORIGINAL-URL:https://www.strawanzerin.at
X-WR-CALDESC:Veranstaltungen im STRAWANZERIN
BEGIN:VTIMEZONE
TZID:"Europe/Helsinki"
BEGIN:DAYLIGHT
TZOFFSETFROM:+0200
TZOFFSETTO:+0300
TZNAME:EEST
DTSTART:20150329T010000
END:DAYLIGHT
BEGIN:STANDARD
TZOFFSETFROM:+0300
TZOFFSETTO:+0200
TZNAME:EET
DTSTART:20151025T010000
END:STANDARD
END:VTIMEZONE
BEGIN:VEVENT
DTSTART;TZID="Europe/Helsinki":20150116T193000
DTEND;TZID="Europe/Helsinki":20150116T210000
DTSTAMP:20260421T202422
CREATED:20150115T153853Z
LAST-MODIFIED:20150115T162733Z
UID:10843-1421436600-1421442000@www.strawanzerin.at
SUMMARY:Über Wasser
DESCRIPTION:Texte von Eugenie Kain   \nSisters from another Mother | Lesung & Musik \nReihe Bar ohne Eigenschaften in der Arena Bar \nDer Aktionsradius Wien startete im Jänner des Vorjahres in seiner «roten» und plüschigen Dependance\, im ehemaligen Nachtlokal Arena Bar\, ein Veranstaltungsformat\, bei dem die Literatur an und für sich und die Sprache im Mittelpunkt stehen. Immer wird gelesen\, immer wird diskutiert\, aber in keinem Fall wird  NUR  gelesen und diskutiert. Immer kommt es zu einem unerwarteten und überraschenden Moment. In ihrem neuen Programm „Über Wasser“ lesen die Halbschwestern Katharina Kain und Alenka Maly Texte der 2010 verstorbenen Linzer Autorin Eugenie Kain. Dazu singen sie Songs\, die vom Nicht-untergehen-wollen erzählen. \nBeginn: 19.30 Uhr\, Einlass: 19.00 Uhr. Eintritt: Spenden erbeten. \n
URL:https://www.strawanzerin.at/termin/ueber-wasser/
LOCATION:Österreich
CATEGORIES:Deutsch,freie Spende,Literatur,Sonstiges,Wien
END:VEVENT
END:VCALENDAR