BEGIN:VCALENDAR
VERSION:2.0
PRODID:-//STRAWANZERIN - ECPv4.9.5//NONSGML v1.0//EN
CALSCALE:GREGORIAN
METHOD:PUBLISH
X-WR-CALNAME:STRAWANZERIN
X-ORIGINAL-URL:https://www.strawanzerin.at
X-WR-CALDESC:Veranstaltungen im STRAWANZERIN
BEGIN:VTIMEZONE
TZID:"Europe/Vienna"
BEGIN:DAYLIGHT
TZOFFSETFROM:+0100
TZOFFSETTO:+0200
TZNAME:CEST
DTSTART:20260329T010000
END:DAYLIGHT
BEGIN:STANDARD
TZOFFSETFROM:+0200
TZOFFSETTO:+0100
TZNAME:CET
DTSTART:20261025T010000
END:STANDARD
END:VTIMEZONE
BEGIN:VEVENT
DTSTART;TZID="Europe/Vienna":20260501T140000
DTEND;TZID="Europe/Vienna":20260501T170000
DTSTAMP:20260423T191329
CREATED:20260423T085809Z
LAST-MODIFIED:20260423T085809Z
UID:114081-1777644000-1777654800@www.strawanzerin.at
SUMMARY:Übersetzungkonferenz zu En Vinteraften i Ufa von Inger Christensen
DESCRIPTION:Während der Arbeitswoche Lesen und Übersetzen wir gemeinsam Inger Christensens Theaterstück „En vinteraften i Ufa“ aus dem Dänischen. \nIn „Vinteraften“ spielen Irina\, Mascha\, Olga und Natascha – die Referenzen auf Čechovs „Drei Schwestern“ reichen bis in längere zitierte Textpassagen – sie spielen ein Stück über das Sprechen und über das (Theater)Spielen; eine Form surrealen und absurden Meta-Theaters. Es ist aber auch ein Stück\, in dem die Stille bestimmend ist\, und keine Kommunikation; es ist ein Drama ohne Progress\, ohne Prozess. Ein Drama\, das sich dem Stillstand nähert. Wie die Schauspielerinnen ihr Stück spielen und sich dabei selbst schreiben\, so kann aber im Übersetzen auch die Bühne mitgedacht werden\, der Dialog im Fortschreiben des Eigenen und der gemeinsamen Übersetzungssituation entstehen\, oder überhaupt erst in Gang gesetzt werden. \nAn den Tagen finden jeweils vormittags 10.oo-13.oo Redaktionstreffen zu den bereits übersetzen Textpassagen statt. \n
URL:https://www.strawanzerin.at/termin/uebersetzungkonferenz-zu-en-vinteraften-i-ufa-von-inger-christensen/2026-05-01/
LOCATION:Versatorium – Verein für Gedichte und Übersetzen\, Am Modenapark 8-9/6/R01\, Gassenlokal an der Ecke Grimmelshausengasse\, Am Modenapark 8-9/6/R01\, Gassenlokal an der Ecke Grimmelshausengasse\, Wien\, 1030\, Österreich
CATEGORIES:Deutsch,Gratis,Kunst/Kultur,Literatur,Mehrsprachig,Wien,Workshop
ATTACH;FMTTYPE=image/jpeg:https://www.strawanzerin.at/wp-content/uploads/2026/04/Versatorium_Uebersetzungskonferenz.jpg
ORGANIZER;CN="Versatorium%20%E2%80%93%20Verein%20f%C3%BCr%20Gedichte%20und%20%C3%9Cbersetzen":MAILTO:transl@versatorium.at
END:VEVENT
END:VCALENDAR