BEGIN:VCALENDAR
VERSION:2.0
PRODID:-//STRAWANZERIN - ECPv4.9.5//NONSGML v1.0//EN
CALSCALE:GREGORIAN
METHOD:PUBLISH
X-WR-CALNAME:STRAWANZERIN
X-ORIGINAL-URL:https://www.strawanzerin.at
X-WR-CALDESC:Veranstaltungen im STRAWANZERIN
BEGIN:VTIMEZONE
TZID:"Europe/Vienna"
BEGIN:DAYLIGHT
TZOFFSETFROM:+0100
TZOFFSETTO:+0200
TZNAME:CEST
DTSTART:20200329T010000
END:DAYLIGHT
BEGIN:STANDARD
TZOFFSETFROM:+0200
TZOFFSETTO:+0100
TZNAME:CET
DTSTART:20201025T010000
END:STANDARD
END:VTIMEZONE
BEGIN:VEVENT
DTSTART;TZID="Europe/Vienna":20200126T170000
DTEND;TZID="Europe/Vienna":20200126T190000
DTSTAMP:20260423T195527
CREATED:20200108T132126Z
LAST-MODIFIED:20200108T132126Z
UID:70878-1580058000-1580065200@www.strawanzerin.at
SUMMARY:„Uhriges“ präsentiert die Galerie Sandpeck Wien 8
DESCRIPTION:Peter Schneider präsentiert „Uhriges“\n‘Einsichten – Ansichten – Durchsichten‘\nVernissage: Sonntag 26.1.2020 um 17 Uhr\nAusstellung: täglich 15 – 19 Uhr bis 31.1.2020\nin der Galerie Sandpeck Wien 8\,\nFloriangiasse 75\, Ecke Uhlplatz.\nfreier Eintritt!\nmehr www.sandpeck.com \n
URL:https://www.strawanzerin.at/termin/uhriges-praesentiert-die-galerie-sandpeck-wien-8/2020-01-26/
LOCATION:Galerie Sandpeck\, Österreich
CATEGORIES:Ausstellung,Deutsch,Gratis,Kunst/Kultur,Wien
ATTACH;FMTTYPE=image/jpeg:https://www.strawanzerin.at/wp-content/uploads/2019/12/PR_Schneider_Peter.jpg
ORGANIZER;CN="Galerie%20Sandpeck":MAILTO:christiane@sandpeck.com
GEO:47.516231;14.550072
END:VEVENT
END:VCALENDAR