BEGIN:VCALENDAR
VERSION:2.0
PRODID:-//STRAWANZERIN - ECPv4.9.5//NONSGML v1.0//EN
CALSCALE:GREGORIAN
METHOD:PUBLISH
X-WR-CALNAME:STRAWANZERIN
X-ORIGINAL-URL:https://www.strawanzerin.at
X-WR-CALDESC:Veranstaltungen im STRAWANZERIN
BEGIN:VTIMEZONE
TZID:"Europe/Vienna"
BEGIN:DAYLIGHT
TZOFFSETFROM:+0100
TZOFFSETTO:+0200
TZNAME:CEST
DTSTART:20220327T010000
END:DAYLIGHT
BEGIN:STANDARD
TZOFFSETFROM:+0200
TZOFFSETTO:+0100
TZNAME:CET
DTSTART:20221030T010000
END:STANDARD
END:VTIMEZONE
BEGIN:VEVENT
DTSTART;TZID="Europe/Vienna":20220212T153000
DTEND;TZID="Europe/Vienna":20220212T170000
DTSTAMP:20260420T232220
CREATED:20220207T153122Z
LAST-MODIFIED:20220302T120113Z
UID:82765-1644679800-1644685200@www.strawanzerin.at
SUMMARY:»Una Serenata Viennese« – Cappella Splendor Solis gastiert im Theatermuseum
DESCRIPTION:Im Rahmen des Zyklus »Musik im Museum« begeben sich Kanako Hayashi (Sopran)\, Stefan Piewald (Countertenor)\, Florian M. Wolf (Bassbariton) und Prof. Josef Stolz (Claviorganum) am Samstag\, dem 12. Februar 2022\, um 15:30 Uhr in die Klangwelt des 16. und frühen 17. Jahrhunderts. Das mit Humor und Fachkenntnis angereicherte Programm umfasst auch Werke von Kaiser Ferdinand III und Kaiser Leopold I.  \nBild: Kanako Hayashi\, Stefan Piewald\, Florian M. Wolf und Prof. Josef Stolz bilden die Cappella Splendor Solis \, Foto/© Mami Tsukio \n
URL:https://www.strawanzerin.at/termin/una-serenata-viennese-cappella-splendor-solis-gastiert-im-theatermuseum/
CATEGORIES:ab 7,Kunst/Kultur,Musik,Wien
ATTACH;FMTTYPE=image/jpeg:https://www.strawanzerin.at/wp-content/uploads/2022/02/Cappella-Splendor-Solis-1-cc-CSS-Mami-Tsukio.jpg
END:VEVENT
END:VCALENDAR