BEGIN:VCALENDAR
VERSION:2.0
PRODID:-//STRAWANZERIN - ECPv4.9.5//NONSGML v1.0//EN
CALSCALE:GREGORIAN
METHOD:PUBLISH
X-WR-CALNAME:STRAWANZERIN
X-ORIGINAL-URL:https://www.strawanzerin.at
X-WR-CALDESC:Veranstaltungen im STRAWANZERIN
BEGIN:VTIMEZONE
TZID:"Europe/Helsinki"
BEGIN:DAYLIGHT
TZOFFSETFROM:+0200
TZOFFSETTO:+0300
TZNAME:EEST
DTSTART:20150329T010000
END:DAYLIGHT
BEGIN:STANDARD
TZOFFSETFROM:+0300
TZOFFSETTO:+0200
TZNAME:EET
DTSTART:20151025T010000
END:STANDARD
END:VTIMEZONE
BEGIN:VEVENT
DTSTART;TZID="Europe/Helsinki":20150108T193000
DTEND;TZID="Europe/Helsinki":20150108T193000
DTSTAMP:20260422T021153
CREATED:20141114T101503Z
LAST-MODIFIED:20141117T090430Z
UID:8512-1420745400-1420745400@www.strawanzerin.at
SUMMARY:Unendlicher Spaß
DESCRIPTION:von David Foster Wallace\nDeutsch von Ulrich Blumenbach\nFür die Bühne bearbeitet von Christine Eder\, Anna Laner und Meike Sasse\nÖsterreichische Erstaufführung \n1545 Seiten und 1\,5 Kilogramm literarische und theatrale Überforderung\, die den Wahnsinn der Gegenwart zwischen ewigem Wachstum und stets drohendem Zusammenbruch befragt – das ist „Unendlicher Spaß“ von David Foster Wallace. Der Roman thematisiert unter vielem anderen Drogenabhängigkeit\, Hedonismus\, Depressionen\, Kindesmissbrauch\, Materialismus\, die Unterhaltungsindustrie\, den Unabhängigkeitskampf von Québec und Tennis und ist ein Gesellschaftsroman\, der das gleichermaßen komische wie erschreckende Portrait einer von Ablenkungen\, Leistungsträumen und Versagensneurosen geradezu rauschhaft verwundeten Zivilisation abbildet. Bereits 1996 in den USA unter dem Titel „Infinite Jest“ erschienen\, kam das Buch erst 2009\, ein Jahr nach dem Selbstmord des Autors\, auf deutsch heraus – die Übersetzung allein nahm sechs Jahre in Anspruch.\nInszenierung: Christine Eder\nBühne: Monika Rovan\nDramaturgie: Meike Sasse \nMit: Julia Jelinek\, Tim Breyvogel\, Karim Chérif\, Bernhard Dechant und Thomas Feichtinger \n
URL:https://www.strawanzerin.at/termin/unendlicher-spass-3/
LOCATION:WERK X\, Oswaldgasse 35A\, Wien\, Wien\, 1120\, Österreich
CATEGORIES:Theater/Kabarett,Wien
ATTACH;FMTTYPE=image/jpeg:https://www.strawanzerin.at/wp-content/uploads/2014/11/Logo12.jpg
ORGANIZER;CN="WERK%20X":MAILTO:buero@werk-x.at
GEO:48.1662859;16.3245824
X-APPLE-STRUCTURED-LOCATION;VALUE=URI;X-ADDRESS=WERK X Oswaldgasse 35A Wien Wien 1120 Österreich;X-APPLE-RADIUS=500;X-TITLE=Oswaldgasse 35A:geo:16.3245824,48.1662859
END:VEVENT
END:VCALENDAR