BEGIN:VCALENDAR
VERSION:2.0
PRODID:-//STRAWANZERIN - ECPv4.9.5//NONSGML v1.0//EN
CALSCALE:GREGORIAN
METHOD:PUBLISH
X-WR-CALNAME:STRAWANZERIN
X-ORIGINAL-URL:https://www.strawanzerin.at
X-WR-CALDESC:Veranstaltungen im STRAWANZERIN
BEGIN:VTIMEZONE
TZID:"Europe/Helsinki"
BEGIN:DAYLIGHT
TZOFFSETFROM:+0200
TZOFFSETTO:+0300
TZNAME:EEST
DTSTART:20150329T010000
END:DAYLIGHT
BEGIN:STANDARD
TZOFFSETFROM:+0300
TZOFFSETTO:+0200
TZNAME:EET
DTSTART:20151025T010000
END:STANDARD
END:VTIMEZONE
BEGIN:VEVENT
DTSTART;TZID="Europe/Helsinki":20150319T200000
DTEND;TZID="Europe/Helsinki":20150320T000000
DTSTAMP:20260420T224053
CREATED:20150311T150900Z
LAST-MODIFIED:20150319T110551Z
UID:12499-1426795200-1426809600@www.strawanzerin.at
SUMMARY:Unglaublich glücklich - Die Buchparty
DESCRIPTION: Marc Carnal und Max Horejs stellen ihren wunderbar durchgeknallten Roman „UNGLAUBLICH GLÜCKLICH“ vor und das an einem unglaublich guten Ort\, dem Schmid Hansl. \nSeid dabei und freut euch über den vielleicht wildesten Hürdenlauf durch die steinige Genrelandschaft der Literatur. \nSpecial Guest: MIKA VEMBER spielt die traurigsten Sommerhits! \nExklusiv: Das selbstgebraute „Unglaublich Glücklich Bier“ in der 0\,75l-Vorteilsflasche! \n
URL:https://www.strawanzerin.at/termin/unglaublich-gluecklich-die-buchparty/
LOCATION:Schmid Hansl\, Schulgasse 31\, Wien\, Wien\, 1180\, Österreich
CATEGORIES:Deutsch,Gratis,Kunst/Kultur,Literatur,Wien
ATTACH;FMTTYPE=:
ORGANIZER;CN="Milena%20Verlag":MAILTO:office@milena-verlag.at
GEO:48.2249143;16.3431156
X-APPLE-STRUCTURED-LOCATION;VALUE=URI;X-ADDRESS=Schmid Hansl Schulgasse 31 Wien Wien 1180 Österreich;X-APPLE-RADIUS=500;X-TITLE=Schulgasse 31:geo:16.3431156,48.2249143
END:VEVENT
END:VCALENDAR