BEGIN:VCALENDAR
VERSION:2.0
PRODID:-//STRAWANZERIN - ECPv4.9.5//NONSGML v1.0//EN
CALSCALE:GREGORIAN
METHOD:PUBLISH
X-WR-CALNAME:STRAWANZERIN
X-ORIGINAL-URL:https://www.strawanzerin.at
X-WR-CALDESC:Veranstaltungen im STRAWANZERIN
BEGIN:VTIMEZONE
TZID:"Europe/Paris"
BEGIN:DAYLIGHT
TZOFFSETFROM:+0100
TZOFFSETTO:+0200
TZNAME:CEST
DTSTART:20150329T010000
END:DAYLIGHT
BEGIN:STANDARD
TZOFFSETFROM:+0200
TZOFFSETTO:+0100
TZNAME:CET
DTSTART:20151025T010000
END:STANDARD
END:VTIMEZONE
BEGIN:VEVENT
DTSTART;TZID="Europe/Paris":20150818T210000
DTEND;TZID="Europe/Paris":20150819T030000
DTSTAMP:20260421T230049
CREATED:20150801T150006Z
LAST-MODIFIED:20150807T093606Z
UID:18858-1439931600-1439953200@www.strawanzerin.at
SUMMARY:UNRECORDS SUMMER CONCERT
DESCRIPTION:ANALOG RUINS (Melodic Post-Punk aus Bremen)\n+\nAIVERY (Noise/Punk/Grunge aus Wien)\n+\nDJs mayr + MS Mutt (Unrecords) \nANALOG RUINS bestehen seit 2013 in ihrer aktuellen Besetzung und haben seitdem vor allem in Deutschland mit Acts wie Rae Spoon\, Big Eyes\, Schwervon!\, Naive\, Static me\, Caves\, friend crush und Gwehrmutter gespielt. Jetzt sind sie zum ersten Mal auf Tour und kommen auch nach Wien!\nDie Bandmembers kennen sich schon länger aus verschiedenen Kontexten in Bremen\, haben zum Teil zusammen gewohnt\, mit der queer-feministischen Konzertgruppe bettybeatz Konzerte organisiert\, 2012 das queer-feministische Festival q*flash auf die Beine gestellt und schon in unterschiedlichen diy/rrriot/performance/punk/singer-songwriter-Projekten gespielt und gesungen (u.a. Kobayashi\, Awry Pattern\, Neongrey\, Largact.ill\, Too rude to be cute\, Toxic Titbits\, Sissy Boyz\, Ärzte ohne Ängste) \n \nAIVERY \nDie junge Band AIVERY hat im November 2013 eine wunderschöne 7-inch bei Unrecords veröffentlicht. Im Frühjahr 2015 folgte ein ebenso grandioses Tape beim Grazer Kassetten-Label Wilhelm show me the Majorlabel. Seit ihrer Gründung im Jahr 2012 haben Aivery bereits unzählige Konzerte vor allem im deutschsprachigen Raum gespielt\, zuletzt waren sie in Wien am Popfest zu bewundern! \n„Das Wort „Power Trio“ ist zwar eine alt-rockistische Vokabel\, aber rein der Form nach betrachtet sind Franziska Schwarz\, Jasmin Marian Rilke und Doris Zimmermann genau das. Schlagzeug\, Gitarre\, Bass\, Stop– und Start-Rhythmen\, Energieausbrüche\, Feedback\, hymnische Refrains: „Can you keep a secret? My secret is yours!“ Die Vokabel wiederum\, mit der Aiverys Label Unrecords üblicherweise beschrieben wird\, ist „queer-feministisch“\, und obwohl auch das schon so stimmt\, darf auch einmal rein musikalisch neben dem ideologischen Kontext festgestellt werden: Unrecords ist einfach ein formidables Rock-\, Punk– und Anti-Pop-Label\, dessen Bands man nicht selten Affinität zu jenen Ausläufern des Grunge und des Hardcore anhört\, die sich in den frühen 1990ern mit Hardcore und Riot Grrrl überschnitten\, mit weiterführenden Linien hin zum Modell Sleater Skinney und Konsorten. Aivery\, deren neue „Tape EP“ wir bei Textlegung noch nicht gehört haben\, sind mit ihren Geschichten über Berlin („Berlin“) und Exen („Separated“) genau dort zuhause. Zu dritt und mächtig\, dann eben doch Power Trio.“ (Ankündigung Popfest 2015) \n„Als hätten die 90er nie aufgehört\, bringen AIVERY als Indierock-Powertrio melancholische Dissonanz und Hang zum Melodischen unter einen\, nein\, drei Hüte. Sozusagen ein weiteres Juwel der hiesigen true-indierock-school\, zwischen ROBOTRA und PLAIDED\, um mal im familiären Rahmen zu bleiben.“\n(Maurizio Winkelschleifer) \nhttps://www.facebook.com/aiveryband | https://aivery.bandcamp.com/ \n
URL:https://www.strawanzerin.at/termin/unrecords-summer-concert/
LOCATION:Rhiz\, U-Bahnbogen 37\, Wien\, Wien\, 1080\, Österreich
CATEGORIES:bis 7,Musik,Wien
ATTACH;FMTTYPE=image/jpeg:https://www.strawanzerin.at/wp-content/uploads/2015/08/AnalogRuins-Aivery.jpg
ORGANIZER;CN="unrecords":MAILTO:info@unrecords.me
GEO:48.2100399;16.3470068
X-APPLE-STRUCTURED-LOCATION;VALUE=URI;X-ADDRESS=Rhiz U-Bahnbogen 37 Wien Wien 1080 Österreich;X-APPLE-RADIUS=500;X-TITLE=U-Bahnbogen 37:geo:16.3470068,48.2100399
END:VEVENT
END:VCALENDAR