BEGIN:VCALENDAR
VERSION:2.0
PRODID:-//STRAWANZERIN - ECPv4.9.5//NONSGML v1.0//EN
CALSCALE:GREGORIAN
METHOD:PUBLISH
X-WR-CALNAME:STRAWANZERIN
X-ORIGINAL-URL:https://www.strawanzerin.at
X-WR-CALDESC:Veranstaltungen im STRAWANZERIN
BEGIN:VTIMEZONE
TZID:"Europe/Vienna"
BEGIN:DAYLIGHT
TZOFFSETFROM:+0100
TZOFFSETTO:+0200
TZNAME:CEST
DTSTART:20190331T010000
END:DAYLIGHT
BEGIN:STANDARD
TZOFFSETFROM:+0200
TZOFFSETTO:+0100
TZNAME:CET
DTSTART:20191027T010000
END:STANDARD
END:VTIMEZONE
BEGIN:VEVENT
DTSTART;TZID="Europe/Vienna":20190110T130000
DTEND;TZID="Europe/Vienna":20190110T170000
DTSTAMP:20260420T132337
CREATED:20181221T115230Z
LAST-MODIFIED:20190102T142407Z
UID:61431-1547125200-1547139600@www.strawanzerin.at
SUMMARY:Untergrund - Statement by Katrin Hornek (Ortsbezogene Kunst
DESCRIPTION:“Katrin Hornek’s work playfully engages with the strange paradoxes and convergences of living in the age of the Anthropocene\, that is\, the new geologic epoch where the effects of capitalism\, colonialism\, and extractivism are written into the body of the earth. Both her artistic and her curatorial practice assert an understanding of the entwinement of nature and culture\, implicitly arguing for more complex formulations\, ones that reflect the ways in which our bodies\, cultures\, materials\, and thoughts are all composed of the other creatures and rocks and air and water that make up our world. What Hornek highlights are the often uncomfortable juxtapositions between these things\, and the ways in which we are both constituted and restrained by contemporary politics and materiality.“\n(Heather Davis) \nAs a starting point I will present works\, which connect a collection of body-stones formed inside of organism\, with CO2 stones mineralized into a sculpture and have been informing the interdisciplinary research project “The Anthropocene Surge — evolution\, expansion and depth of Vienna’s urban environment“. \nThis project is based at the department of Site-Specific Art and the University of Vienna and maps the spatial and temporal development of Vienna’s Anthropocene as a three-dimensional body. Our team consisting of Michael Wagreich\, a member of the Anthropocene Working Group\, the archaeologist and geoinformatician Kira Lappé\, the geologist Maria Meszar and myself – we try to visualize the mass\, composition\, weight\, sprawl and accumulation rates of anthropogenic deposits from the Romans to the present day in different ways. Following this digitalization process into a geo-referenced landscape modeled in 3D I will develop an essay film over the course of four years. Points of contact between the analog and digital domains are analyzed in order to trace potential correlations and proliferating networks they may have formed. \nContribution by Michael Wagreich (University of Vienna) \nJanuary 10\, 2018; 1pm\nPaulusplatz 5\, Seminarraum 2. Stock\n1030 Wien \nThe-Anthropocene-Surge \n \nwww.katrinhornek.net \n
URL:https://www.strawanzerin.at/termin/untergrund-statement-by-katrin-hornek-ortsbezogene-kunst/
ATTACH;FMTTYPE=image/jpeg:https://www.strawanzerin.at/wp-content/uploads/2018/12/Casting-Haze-base_Hornek_web.jpg
END:VEVENT
END:VCALENDAR