BEGIN:VCALENDAR
VERSION:2.0
PRODID:-//STRAWANZERIN - ECPv4.9.5//NONSGML v1.0//EN
CALSCALE:GREGORIAN
METHOD:PUBLISH
X-WR-CALNAME:STRAWANZERIN
X-ORIGINAL-URL:https://www.strawanzerin.at
X-WR-CALDESC:Veranstaltungen im STRAWANZERIN
BEGIN:VTIMEZONE
TZID:"Europe/Vienna"
BEGIN:DAYLIGHT
TZOFFSETFROM:+0100
TZOFFSETTO:+0200
TZNAME:CEST
DTSTART:20190331T010000
END:DAYLIGHT
BEGIN:STANDARD
TZOFFSETFROM:+0200
TZOFFSETTO:+0100
TZNAME:CET
DTSTART:20191027T010000
END:STANDARD
END:VTIMEZONE
BEGIN:VEVENT
DTSTART;TZID="Europe/Vienna":20190413T190000
DTEND;TZID="Europe/Vienna":20190526T190000
DTSTAMP:20260420T200327
CREATED:20190313T142815Z
LAST-MODIFIED:20190403T082325Z
UID:62927-1555182000-1558897200@www.strawanzerin.at
SUMMARY:Unvorhergesehene Information / Nepredvidaná Informace
DESCRIPTION:Mit: Barbora Bálková\, Josef Hník\, Ulrike Königshofer\, Mária Kudasová\, Antonín Malý\, Fritz Simak\, Matthias Staudinger\, Subhash\, Jiři Tiller\, Luděk Vojtěchovský\, Christoff Wiesinger\, Robert Zahornicky \nKuratiert von: Subhash und Jiři Tiller \nGrenzüberschreitende Doppel-Ausstellung in der Kunstfabrik Groß Siegharts und im Museum für Fotografie in Jindrichuv Hradec (Tschechien). \nIm Zeitalter der umfassenden Programmiertheit wird die Frage nach Freiheit neu gestellt – durch das Spielen gegen die Programme. Dieser Idee des Prager Medientheoretikers Vilém Flussers folgend zeigt „Unvorhergesehene Information/Nepředvídaná informace” Fotografien\, die die Fotoindustrie nicht beabsichtigt hat und auch ihre Werbeagenturen nicht bedacht haben. \nFotografInnen aus Österreich und Tschechien bringen in ihren Arbeiten hervor\, was im Programm des Apparates nicht festgelegt ist. Darin zeigt sich ein Modell für Freiheit im nachindustriellen Zusammenhang. \nEröffnungen:\nMuzeum fotografie a moderních obrazových médií: Freitag\, 12. April 2019\, 17 Uhr\nKunstfabrik Groß Siegharts: Samstag\, 13. April 2019\, 19 Uhr \nAusstellungsdauer: 14. April bis 26. Mai 2019 \nKunstfabrik Groß Siegharts\nKarlsteiner Strasse 4\n3812 Groß-Siegharts\nwww.galerien-thayaland.at\nÖffnungszeiten: Mi bis So\, 13 bis 18 Uhr \nMuzeum fotografie a moderních obrazových médií\nJesuitenkolleg\, Kostelní 20\n377 01 Jindřichův Hradec\nwww.mfmom.cz\nÖffnungszeiten: Di bis So\, 10–12.30\, 13 –17 Uhr \n
URL:https://www.strawanzerin.at/termin/unvorhergesehene-information-nepredvidana-informace/
LOCATION:Kunstfabrik Groß Siegharts\, Karlsteiner Straße 4\, Groß-Siegharts\, Niederösterreich\, 3812\, Österreich
CATEGORIES:Ausstellung
ATTACH;FMTTYPE=image/jpeg:https://www.strawanzerin.at/wp-content/uploads/2019/03/©Subhash_Positionierung.jpg
ORGANIZER;CN="Galerien%20Thayaland":MAILTO:franzpart9@gmail.com
GEO:48.791901;15.4039756
X-APPLE-STRUCTURED-LOCATION;VALUE=URI;X-ADDRESS=Kunstfabrik Groß Siegharts Karlsteiner Straße 4 Groß-Siegharts Niederösterreich 3812 Österreich;X-APPLE-RADIUS=500;X-TITLE=Karlsteiner Straße 4:geo:15.4039756,48.791901
END:VEVENT
END:VCALENDAR