BEGIN:VCALENDAR
VERSION:2.0
PRODID:-//STRAWANZERIN - ECPv4.9.5//NONSGML v1.0//EN
CALSCALE:GREGORIAN
METHOD:PUBLISH
X-WR-CALNAME:STRAWANZERIN
X-ORIGINAL-URL:https://www.strawanzerin.at
X-WR-CALDESC:Veranstaltungen im STRAWANZERIN
BEGIN:VTIMEZONE
TZID:"Europe/Helsinki"
BEGIN:DAYLIGHT
TZOFFSETFROM:+0200
TZOFFSETTO:+0300
TZNAME:EEST
DTSTART:20160327T010000
END:DAYLIGHT
BEGIN:STANDARD
TZOFFSETFROM:+0300
TZOFFSETTO:+0200
TZNAME:EET
DTSTART:20161030T010000
END:STANDARD
END:VTIMEZONE
BEGIN:VEVENT
DTSTART;TZID="Europe/Helsinki":20160919T080000
DTEND;TZID="Europe/Helsinki":20160919T170000
DTSTAMP:20260422T023306
CREATED:20160919T142006Z
LAST-MODIFIED:20160921T062735Z
UID:33831-1474272000-1474304400@www.strawanzerin.at
SUMMARY:Upcycling Fashion: Textile Reparaturtechniken
DESCRIPTION:Upcycling-Fashion: Textile Reparaturtechniken\nIn diesem Workshop erhalten die TeilnehmerInnen Inputs zur kreativen Umgestaltung ihrer alten Kleidung. Ob das Lieblingskleid zu eng geworden ist oder sich der letzte Impulskauf daheim als langweilig herausgestellt hat: Textilien sind zu schade um im Müll zu landen!\nDie Möglichkeiten sind grenzenlos: Das Kleid von der Oma wird in einen Rock verwandelt\, die alte Bettwäsche zu Geschirrtüchern und aus der Tischdecke wird ein Kinderkleid. Kurz: Textile Reparaturtechniken verhelfen Textilien zu längerer Lebensdauer. \n
URL:https://www.strawanzerin.at/termin/upcycling-fashion-textile-reparaturtechniken/
LOCATION:Recycling Kosmos Zentrale\, Ottakringer Straße 63\, Wien\, Wien\, 1160\, Österreich
ORGANIZER;CN="Recycling%20Kosmos":MAILTO:workshops@recyclingkosmos.at
GEO:48.2137812;16.3298013
X-APPLE-STRUCTURED-LOCATION;VALUE=URI;X-ADDRESS=Recycling Kosmos Zentrale Ottakringer Straße 63 Wien Wien 1160 Österreich;X-APPLE-RADIUS=500;X-TITLE=Ottakringer Straße 63:geo:16.3298013,48.2137812
END:VEVENT
END:VCALENDAR