BEGIN:VCALENDAR
VERSION:2.0
PRODID:-//STRAWANZERIN - ECPv4.9.5//NONSGML v1.0//EN
CALSCALE:GREGORIAN
METHOD:PUBLISH
X-WR-CALNAME:STRAWANZERIN
X-ORIGINAL-URL:https://www.strawanzerin.at
X-WR-CALDESC:Veranstaltungen im STRAWANZERIN
BEGIN:VTIMEZONE
TZID:"Europe/Helsinki"
BEGIN:DAYLIGHT
TZOFFSETFROM:+0200
TZOFFSETTO:+0300
TZNAME:EEST
DTSTART:20140330T010000
END:DAYLIGHT
BEGIN:STANDARD
TZOFFSETFROM:+0300
TZOFFSETTO:+0200
TZNAME:EET
DTSTART:20141026T010000
END:STANDARD
END:VTIMEZONE
BEGIN:VEVENT
DTSTART;TZID="Europe/Helsinki":20141022T153000
DTEND;TZID="Europe/Helsinki":20141022T180000
DTSTAMP:20260423T122926
CREATED:20140927T200838Z
LAST-MODIFIED:20141006T081240Z
UID:7605-1413991800-1414000800@www.strawanzerin.at
SUMMARY:Upcycling mit Textilien
DESCRIPTION:für Familien mit Kindern ab 3 Jahren\nAus textilen Abfallprodukten werden lustige Sockenpuppen\, Regenmacher_innen\, Ketten\, Armbänder\, Taschen oder Magnetpuppen geklebt oder genäht. \nWorkshopleitung: Esther Weinberger\nAnmeldung:esther@klamottenkunst.at oder 0650 974 99 59 \n
URL:https://www.strawanzerin.at/termin/upcycling-mit-textilien/
LOCATION:Recycling Kosmos Zentrale\, Ottakringer Straße 63\, Wien\, Wien\, 1160\, Österreich
CATEGORIES:bis 7,Deutsch,Kinderkultur,Kunst/Kultur,Wien
ATTACH;FMTTYPE=image/jpeg:https://www.strawanzerin.at/wp-content/uploads/2014/09/DSC_04031.jpg
ORGANIZER;CN="Recycling%20Kosmos":MAILTO:workshops@recyclingkosmos.at
GEO:48.2137812;16.3298013
X-APPLE-STRUCTURED-LOCATION;VALUE=URI;X-ADDRESS=Recycling Kosmos Zentrale Ottakringer Straße 63 Wien Wien 1160 Österreich;X-APPLE-RADIUS=500;X-TITLE=Ottakringer Straße 63:geo:16.3298013,48.2137812
END:VEVENT
END:VCALENDAR